BEGIN:VCALENDAR
VERSION:2.0
PRODID:-//WPC Nederland Drie - ECPv6.15.20//NONSGML v1.0//EN
CALSCALE:GREGORIAN
METHOD:PUBLISH
X-WR-CALNAME:WPC Nederland Drie
X-ORIGINAL-URL:https://nederlanddrie.nl
X-WR-CALDESC:Evenementen voor WPC Nederland Drie
REFRESH-INTERVAL;VALUE=DURATION:PT1H
X-Robots-Tag:noindex
X-PUBLISHED-TTL:PT1H
BEGIN:VTIMEZONE
TZID:Europe/Amsterdam
BEGIN:DAYLIGHT
TZOFFSETFROM:+0100
TZOFFSETTO:+0200
TZNAME:CEST
DTSTART:20230326T010000
END:DAYLIGHT
BEGIN:STANDARD
TZOFFSETFROM:+0200
TZOFFSETTO:+0100
TZNAME:CET
DTSTART:20231029T010000
END:STANDARD
BEGIN:DAYLIGHT
TZOFFSETFROM:+0100
TZOFFSETTO:+0200
TZNAME:CEST
DTSTART:20240331T010000
END:DAYLIGHT
BEGIN:STANDARD
TZOFFSETFROM:+0200
TZOFFSETTO:+0100
TZNAME:CET
DTSTART:20241027T010000
END:STANDARD
BEGIN:DAYLIGHT
TZOFFSETFROM:+0100
TZOFFSETTO:+0200
TZNAME:CEST
DTSTART:20250330T010000
END:DAYLIGHT
BEGIN:STANDARD
TZOFFSETFROM:+0200
TZOFFSETTO:+0100
TZNAME:CET
DTSTART:20251026T010000
END:STANDARD
END:VTIMEZONE
BEGIN:VEVENT
DTSTART;TZID=Europe/Amsterdam:20241214T213000
DTEND;TZID=Europe/Amsterdam:20241215T020000
DTSTAMP:20260420T000553
CREATED:20241101T082310Z
LAST-MODIFIED:20241101T082310Z
UID:10000138-1734211800-1734228000@nederlanddrie.nl
SUMMARY:Scouting Kwintsheul organiseert: Trompestampe 2024
DESCRIPTION:Sinds 1990 organiseert Scouting Kwintsheul jaarlijks Trompestampe. Drie bandjes sterk deze avond\, dit staat garant voor een avond vol muziek en gezelligheid. De opbrengst van deze avond komt ten goede aan Scouting Kwintsheul zodat zij hun gebouwen en vloot kunnen blijven inzetten om de leden een mooie en avontuurlijke Scouting tijd te bieden. \nTijdschema:\n21:00 zaal open\n22:00 Loch out\n23:00 The Worst Example\n00:00 Hard voor Weinig
URL:https://nederlanddrie.nl/evenement/trompestampe-2024/
CATEGORIES:Activiteit,Pop,Rock
ATTACH;FMTTYPE=image/jpeg:https://nederlanddrie.nl/wp-content/uploads/Banner.jpg
END:VEVENT
BEGIN:VEVENT
DTSTART;TZID=Europe/Amsterdam:20241213T213000
DTEND;TZID=Europe/Amsterdam:20241214T010000
DTSTAMP:20260420T000553
CREATED:20241103T081329Z
LAST-MODIFIED:20241129T081634Z
UID:10000141-1734125400-1734138000@nederlanddrie.nl
SUMMARY:Strange Machines + Dreamscape Architect
DESCRIPTION:Wat gebeurt er als je in een tijdmachine stapt met Strange Machines? Op 13 december in WPC Nederland 3 kom je erachter! Deze coverband neemt je mee op een onvergetelijke muzikale reis door de tijd. Met een mix van bekende hits en verrassende vertolkingen\, is dit een avond die je niet wilt missen. \nEn wie weet welke muzikale verrassingen de support act (t.b.a.) voor ons in petto heeft?
URL:https://nederlanddrie.nl/evenement/strange-machines-support/
CATEGORIES:Pop,Rock
ATTACH;FMTTYPE=image/png:https://nederlanddrie.nl/wp-content/uploads/facebook-omslag.png
END:VEVENT
BEGIN:VEVENT
DTSTART;TZID=Europe/Amsterdam:20241207T213000
DTEND;TZID=Europe/Amsterdam:20241208T020000
DTSTAMP:20260420T000553
CREATED:20240902T135210Z
LAST-MODIFIED:20240902T135322Z
UID:10000129-1733607000-1733623200@nederlanddrie.nl
SUMMARY:Progland 3: Tower of Kalla
DESCRIPTION:Tower of Kalla is een bijzondere band uit Katwijk. Vijf verschillende mensen met een gedeelde passie voor symfonische rock muziek. Muziek die bruist van de creativiteit\, muziek vol pieken en dalen\, muziek die de luisteraar mee neemt op een ontdekkingstocht. \nHun repertoire bestaat uit covers uit de symfonische en progressieve rock van de jaren ’70 en ’80. Denk hierbij aan Genesis\, Yes\, Marillion\, Pink Floyd\, Kayak en Toto. Een fijne mix van herkenbare nummers en een spannende muzikale reis vol knallende solo’s! Met een verassende en flamboyante liveshow wekt Tower of Kalla de hoogtijdagen van de symfo tot leven.
URL:https://nederlanddrie.nl/evenement/progland-3-tower-of-kalla/
CATEGORIES:Rock
ATTACH;FMTTYPE=image/jpeg:https://nederlanddrie.nl/wp-content/uploads/IMG_2796.jpeg
END:VEVENT
BEGIN:VEVENT
DTSTART;TZID=Europe/Amsterdam:20241206T213000
DTEND;TZID=Europe/Amsterdam:20241207T010000
DTSTAMP:20260420T000553
CREATED:20241103T080442Z
LAST-MODIFIED:20241103T080442Z
UID:10000140-1733520600-1733533200@nederlanddrie.nl
SUMMARY:Podium Wateringen: Switchback en Everlong
DESCRIPTION:WPC Nederland 3 organiseert elke 1e vrijdag van de maand ‘podium Wateringen’\, een avond waarop Westlandse bands de vrijheid krijgen om zichzelf te presenteren\, andere muzikanten te ontmoeten en podium ervaring op te doen. \nIn december Switchback en Everlong!\nLaat je verassen door wat het Westland muzikaal te bieden heeft\, de toegang is gratis. \nHeb jij zelf een band met of een band uit het Westland en wil je ook op een podium Wateringen avond optreden? Meld je aan via https://nederlanddrie.nl/spelen-in-drie/
URL:https://nederlanddrie.nl/evenement/podium-wateringen-switchback-en-everlong/
CATEGORIES:Pop,Rock
ATTACH;FMTTYPE=image/png:https://nederlanddrie.nl/wp-content/uploads/Kopie-van-@wpcnederland3.png
END:VEVENT
BEGIN:VEVENT
DTSTART;TZID=Europe/Amsterdam:20241130T213000
DTEND;TZID=Europe/Amsterdam:20241201T020000
DTSTAMP:20260420T000553
CREATED:20241004T095912Z
LAST-MODIFIED:20241005T095451Z
UID:10000136-1733002200-1733018400@nederlanddrie.nl
SUMMARY:Flight to the Rolling Stones
DESCRIPTION:Dames en heren\, rockliefhebbers en Stones-fanaten\, welkom op een avond die in het teken staat van pure rock-‘n-roll! Vanavond nemen we je mee terug naar de gouden tijden van de rockgeschiedenis\, waar de rauwe energie\, het charisma en de legendarische hits van The Rolling Stones weer tot leven komen. Bereid je voor om te genieten van de tijdloze klassiekers\, de opzwepende riffs en de iconische stemmen\, allemaal uitgevoerd door de beste coverband die je ooit hebt gehoord. \nZing mee\, dans alsof het 1969 is\, en beleef opnieuw de magie van de Stones zoals alleen zij dat konden brengen. Van “Satisfaction” tot “Paint It Black”\, van “Start Me Up” tot “Sympathy for the Devil” – dit is de kans om de muziek te vieren die generaties heeft geïnspireerd en die de wereld veroverde. Wees klaar om je onder te dompelen in de sfeer van rock-‘n-roll op z’n best! \nLaten we deze avond onvergetelijk maken – want\, zoals Mick Jagger zou zeggen: “It’s only rock ’n roll\, but we like it!”
URL:https://nederlanddrie.nl/evenement/flight-to-the-rolling-stones-2/
CATEGORIES:Rock
ATTACH;FMTTYPE=image/jpeg:https://nederlanddrie.nl/wp-content/uploads/1000008123.jpg
END:VEVENT
BEGIN:VEVENT
DTSTART;TZID=Europe/Amsterdam:20241129T213000
DTEND;TZID=Europe/Amsterdam:20241130T010000
DTSTAMP:20260420T000553
CREATED:20241001T174357Z
LAST-MODIFIED:20241002T111329Z
UID:10000135-1732915800-1732928400@nederlanddrie.nl
SUMMARY:Benefiet: Staeds en Rockformation
DESCRIPTION:Muziek voor het goede doel\, op vrijdag 29 november organiseren Staeds en Rockformation een benefiet voor stichting melanoom\, de volledige opbrengst van de kaartverkoop gaat naar stichting melanoom.
URL:https://nederlanddrie.nl/evenement/benefiet-staeds-en-rockformation/
CATEGORIES:Pop,Rock
ATTACH;FMTTYPE=image/jpeg:https://nederlanddrie.nl/wp-content/uploads/Algemeen.jpg
END:VEVENT
END:VCALENDAR