BEGIN:VCALENDAR
VERSION:2.0
PRODID:-//WPC Nederland Drie - ECPv6.15.20//NONSGML v1.0//EN
CALSCALE:GREGORIAN
METHOD:PUBLISH
X-ORIGINAL-URL:https://nederlanddrie.nl
X-WR-CALDESC:Evenementen voor WPC Nederland Drie
REFRESH-INTERVAL;VALUE=DURATION:PT1H
X-Robots-Tag:noindex
X-PUBLISHED-TTL:PT1H
BEGIN:VTIMEZONE
TZID:Europe/Amsterdam
BEGIN:DAYLIGHT
TZOFFSETFROM:+0100
TZOFFSETTO:+0200
TZNAME:CEST
DTSTART:20240331T010000
END:DAYLIGHT
BEGIN:STANDARD
TZOFFSETFROM:+0200
TZOFFSETTO:+0100
TZNAME:CET
DTSTART:20241027T010000
END:STANDARD
BEGIN:DAYLIGHT
TZOFFSETFROM:+0100
TZOFFSETTO:+0200
TZNAME:CEST
DTSTART:20250330T010000
END:DAYLIGHT
BEGIN:STANDARD
TZOFFSETFROM:+0200
TZOFFSETTO:+0100
TZNAME:CET
DTSTART:20251026T010000
END:STANDARD
BEGIN:DAYLIGHT
TZOFFSETFROM:+0100
TZOFFSETTO:+0200
TZNAME:CEST
DTSTART:20260329T010000
END:DAYLIGHT
BEGIN:STANDARD
TZOFFSETFROM:+0200
TZOFFSETTO:+0100
TZNAME:CET
DTSTART:20261025T010000
END:STANDARD
END:VTIMEZONE
BEGIN:VEVENT
DTSTART;TZID=Europe/Amsterdam:20250912T210000
DTEND;TZID=Europe/Amsterdam:20250913T010000
DTSTAMP:20260420T162101
CREATED:20250718T121831Z
LAST-MODIFIED:20250718T121950Z
UID:10000236-1757710800-1757725200@nederlanddrie.nl
SUMMARY:Openingsweekend: Westlandse Avond
DESCRIPTION:Westlandse Bandjes Avond bij NL3\nWe trappen het openingsweekend af met live muziek van eigen bodem. Tijdens de Westlandse Bandjes Avond geven we het podium aan rauw talent uit onze regio. Verwacht energieke optredens\, verrassende sounds en de sfeer die je alleen bij Nederland 3 vindt. \nOf je nu komt om te ontdekken\, supporten of gewoon om te genieten van livemuziek: dit is jouw avond. Laat je verrassen door wat Westland muzikaal te bieden heeft. \n20:30 Deur open\n21:00 Move On\n22:00 Suzy Blue\n23:00 The Night Light Band
URL:https://nederlanddrie.nl/evenement/openingsweekend-westlandse-avond/
CATEGORIES:Blues,Pop,Rock
ATTACH;FMTTYPE=image/png:https://nederlanddrie.nl/wp-content/uploads/Header-Openingsweekend.png
END:VEVENT
BEGIN:VEVENT
DTSTART;TZID=Europe/Amsterdam:20250913T193000
DTEND;TZID=Europe/Amsterdam:20250914T020000
DTSTAMP:20260420T162101
CREATED:20250718T123137Z
LAST-MODIFIED:20250905T070021Z
UID:10000237-1757791800-1757815200@nederlanddrie.nl
SUMMARY:Openingsweekend: Zaterdag Live
DESCRIPTION:We trappen het nieuwe seizoen groots af. Zaterdagavond staat volledig in het teken van live muziek\, sfeer en een zaal vol energie. Verwacht strakke optredens\, frisse gezichten en een feestelijke avond waarop alles samenkomt. \nOf je nou een vaste bezoeker bent of Nederland 3 voor het eerst ontdekt: dit is hét moment om erbij te zijn. Een nieuw seizoen\, een nieuw geluid. Dit is jouw NL3. \n19:00 Deur open\n19:30 Blues Train\n20:30 Nine Hours West\n21:30 Moris Hart\n22:30 Hilin\n23:30 Oversized
URL:https://nederlanddrie.nl/evenement/openingsweekend-zaterdag-live/
CATEGORIES:Blues,Pop,Rock
ATTACH;FMTTYPE=image/png:https://nederlanddrie.nl/wp-content/uploads/Header-Openingsweekend.png
END:VEVENT
BEGIN:VEVENT
DTSTART;TZID=Europe/Amsterdam:20250927T213000
DTEND;TZID=Europe/Amsterdam:20250928T010000
DTSTAMP:20260420T162101
CREATED:20250806T091608Z
LAST-MODIFIED:20250806T092052Z
UID:10000238-1759008600-1759021200@nederlanddrie.nl
SUMMARY:Alanis!
DESCRIPTION:Ontdek Alanis! een tributeband van doorgewinterde professionals die de iconische pop en rock repertoire van Alanis Morissette met ongeëvenaarde passie en muzikaliteit vertolken. Met meer dan tien jaar podiumervaring brengen zij de grootste hits als “You Oughta Know” en “Ironic” tot leven\, exact zoals je ze kent en toch fris en verrassend.
URL:https://nederlanddrie.nl/evenement/alanis/
CATEGORIES:Pop,Rock
ATTACH;FMTTYPE=image/jpeg:https://nederlanddrie.nl/wp-content/uploads/DSC_5692.jpg
END:VEVENT
END:VCALENDAR