BEGIN:VCALENDAR
VERSION:2.0
PRODID:-//WPC Nederland Drie - ECPv6.15.20//NONSGML v1.0//EN
CALSCALE:GREGORIAN
METHOD:PUBLISH
X-WR-CALNAME:WPC Nederland Drie
X-ORIGINAL-URL:https://nederlanddrie.nl
X-WR-CALDESC:Evenementen voor WPC Nederland Drie
REFRESH-INTERVAL;VALUE=DURATION:PT1H
X-Robots-Tag:noindex
X-PUBLISHED-TTL:PT1H
BEGIN:VTIMEZONE
TZID:Europe/Amsterdam
BEGIN:DAYLIGHT
TZOFFSETFROM:+0100
TZOFFSETTO:+0200
TZNAME:CEST
DTSTART:20240331T010000
END:DAYLIGHT
BEGIN:STANDARD
TZOFFSETFROM:+0200
TZOFFSETTO:+0100
TZNAME:CET
DTSTART:20241027T010000
END:STANDARD
BEGIN:DAYLIGHT
TZOFFSETFROM:+0100
TZOFFSETTO:+0200
TZNAME:CEST
DTSTART:20250330T010000
END:DAYLIGHT
BEGIN:STANDARD
TZOFFSETFROM:+0200
TZOFFSETTO:+0100
TZNAME:CET
DTSTART:20251026T010000
END:STANDARD
BEGIN:DAYLIGHT
TZOFFSETFROM:+0100
TZOFFSETTO:+0200
TZNAME:CEST
DTSTART:20260329T010000
END:DAYLIGHT
BEGIN:STANDARD
TZOFFSETFROM:+0200
TZOFFSETTO:+0100
TZNAME:CET
DTSTART:20261025T010000
END:STANDARD
END:VTIMEZONE
BEGIN:VEVENT
DTSTART;TZID=Europe/Amsterdam:20250404T213000
DTEND;TZID=Europe/Amsterdam:20250405T010000
DTSTAMP:20260420T234716
CREATED:20250314T194221Z
LAST-MODIFIED:20250314T194342Z
UID:10000182-1743802200-1743814800@nederlanddrie.nl
SUMMARY:Podium Wateringen: Leftovers + The Guardians
DESCRIPTION:  \n \nWPC Nederland 3 organiseert elke 1e vrijdag van de maand ‘podium Wateringen’\, een avond waarop Westlandse bands de vrijheid krijgen om zichzelf te presenteren\, andere muzikanten te ontmoeten en podium ervaring op te doen. \nDitmaal met Leftovers en The Guardians \nLaat je verassen door wat het Westland muzikaal te bieden heeft\, de toegang is gratis. \nHeb jij zelf een band met of een band uit het Westland en wil je ook op een podium Wateringen avond optreden? Meld je aan via https://nederlanddrie.nl/spelen-in-drie/
URL:https://nederlanddrie.nl/evenement/podium-wateringen-leftovers-guardians/
CATEGORIES:Pop,Rock
ATTACH;FMTTYPE=image/png:https://nederlanddrie.nl/wp-content/uploads/Kopie-van-@wpcnederland3.png
END:VEVENT
BEGIN:VEVENT
DTSTART;TZID=Europe/Amsterdam:20250405T210000
DTEND;TZID=Europe/Amsterdam:20250406T020000
DTSTAMP:20260420T234716
CREATED:20250119T085757Z
LAST-MODIFIED:20250324T085654Z
UID:10000176-1743886800-1743904800@nederlanddrie.nl
SUMMARY:Waterproof
DESCRIPTION:Wil jij spelen op Waterpop? Waterproof 2025 biedt geeft jou deze kans! \nBands uit de regio Westland\, Delft en Den Haag hebben zich massaal ingeschreven en we zijn overdonderd door het talent in de regio. De keuze was dan ook allesbehalve makkelijk — het niveau lag hoog en de diversiteit aan stijlen was indrukwekkend. Helaas kunnen er dit jaar maar vier deelnemers geselecteerd worden. \nAan iedereen die zich heeft aangemeld: bedankt voor jullie enthousiasme en inzet! Heb je het dit keer net niet gehaald? Niet getreurd — volgend jaar bieden we opnieuw kansen om je plek op het Waterpop-podium te veroveren. Houd ons in de gaten\, blijf spelen\, blijf groeien\, en wie weet sta jij in 2026 wél in de spotlight! \nDe geselecteerde artiesten zijn:
URL:https://nederlanddrie.nl/evenement/waterproof/
CATEGORIES:Easy Listening,Overige,Pop,Punk,Rock
ATTACH;FMTTYPE=image/webp:https://nederlanddrie.nl/wp-content/uploads/Waterpop-Door-Jolanda-van-Wijhe-1.webp
END:VEVENT
BEGIN:VEVENT
DTSTART;TZID=Europe/Amsterdam:20250418T210000
DTEND;TZID=Europe/Amsterdam:20250419T010000
DTSTAMP:20260420T234716
CREATED:20250113T151853Z
LAST-MODIFIED:20250115T083727Z
UID:10000171-1745010000-1745024400@nederlanddrie.nl
SUMMARY:[UITVERKOCHT] De Wip Reunie: Late Again
DESCRIPTION:Herbeleef de gouden tijden: Reünie Café De Wip! 🍻🎉 \nWeemoed naar die legendarische avonden in Café De Wip? Inmiddels 30 jaar gesloten maar nog steeds denken velen met weemoed terug aan het hardrock café\, tijden van dj’s zoals Ton Tabben\, André Zwinkels en Henk Hazewinkel. Het moment is aangebroken om die mooie herinneringen weer tot leven te brengen! Stap terug in de tijd en ontmoet oude bekenden\, geniet van de nostalgische sfeer en deel verhalen over de goede oude dagen in hét café waar het allemaal gebeurde. \nSpeciale setting en film presentatie. \nSpecial voor deze avond zal WPC Nederland 3 éénmalig omgetoverd worden naar een speciale De Wip setting. Daarbij zal een unieke korte film gepresenteerd worden over de geschiedenis van De Wip. Samengesteld door Angelo Damen\, filmmaker van o.a. de documentaire “Tot ik doodgaat\, blijf ik radiopiraat” en “De laatste kouwe tuinder van het Westland”. Daarna vervolgen een aantal DJ’s van vroeger met het draaien van plaatjes\, net zoals vroeger. \nMet muziek\, een hapje en een drankje\, zorgen we voor een onvergetelijke avond vol gezelligheid en warmte. Dit is dé kans om samen met je oude stamgasten de unieke charme van Café De Wip opnieuw te ervaren. \nDus neem je pruik mee en mis het niet! Samen brengen we de magie van Café De Wip weer tot leven en maken we het “Late Again”! \nDeur open: 20:30\nFlim presentatie: 21:00
URL:https://nederlanddrie.nl/evenement/de-wip-reunie-late-again/
CATEGORIES:Activiteit,Rock
ATTACH;FMTTYPE=image/jpeg:https://nederlanddrie.nl/wp-content/uploads/okt.-19-Doc-1-rotated.jpg
END:VEVENT
BEGIN:VEVENT
DTSTART;TZID=Europe/Amsterdam:20250425T210000
DTEND;TZID=Europe/Amsterdam:20250426T010000
DTSTAMP:20260420T234716
CREATED:20250119T084308Z
LAST-MODIFIED:20250120T175229Z
UID:10000175-1745614800-1745629200@nederlanddrie.nl
SUMMARY:[UITVERKOCHT] De Wip Reunie: Late Again deel 2
DESCRIPTION:Herbeleef de gouden tijden: Reünie Café De Wip! 🍻🎉 \nWeemoed naar die legendarische avonden in Café De Wip? Inmiddels 30 jaar gesloten maar nog steeds denken velen met weemoed terug aan het hardrock café\, tijden van dj’s zoals Ton Tabben\, André Zwinkels en Henk Hazewinkel. Het moment is aangebroken om die mooie herinneringen weer tot leven te brengen! Stap terug in de tijd en ontmoet oude bekenden\, geniet van de nostalgische sfeer en deel verhalen over de goede oude dagen in hét café waar het allemaal gebeurde. \nSpeciale setting en film presentatie. \nSpecial voor deze avond zal WPC Nederland 3 éénmalig omgetoverd worden naar een speciale De Wip setting. Daarbij zal een unieke korte film gepresenteerd worden over de geschiedenis van De Wip. Samengesteld door Angelo Damen\, filmmaker van o.a. de documentaire “Tot ik doodgaat\, blijf ik radiopiraat” en “De laatste kouwe tuinder van het Westland”. Daarna vervolgen een aantal DJ’s van vroeger met het draaien van plaatjes\, net zoals vroeger. \nMet muziek\, een hapje en een drankje\, zorgen we voor een onvergetelijke avond vol gezelligheid en warmte. Dit is dé kans om samen met je oude stamgasten de unieke charme van Café De Wip opnieuw te ervaren. \nDus neem je pruik mee en mis het niet! Samen brengen we de magie van Café De Wip weer tot leven en maken we het “Late Again”! \nDeur open: 20:30\nFlim presentatie: 21:00
URL:https://nederlanddrie.nl/evenement/de-wip-reunie-late-again-deel-2/
CATEGORIES:Activiteit,Rock
ATTACH;FMTTYPE=image/jpeg:https://nederlanddrie.nl/wp-content/uploads/okt.-19-Doc-1-rotated.jpg
END:VEVENT
END:VCALENDAR