BEGIN:VCALENDAR
VERSION:2.0
PRODID:-//WPC Nederland Drie - ECPv6.15.20//NONSGML v1.0//EN
CALSCALE:GREGORIAN
METHOD:PUBLISH
X-WR-CALNAME:WPC Nederland Drie
X-ORIGINAL-URL:https://nederlanddrie.nl
X-WR-CALDESC:Evenementen voor WPC Nederland Drie
REFRESH-INTERVAL;VALUE=DURATION:PT1H
X-Robots-Tag:noindex
X-PUBLISHED-TTL:PT1H
BEGIN:VTIMEZONE
TZID:Europe/Amsterdam
BEGIN:DAYLIGHT
TZOFFSETFROM:+0100
TZOFFSETTO:+0200
TZNAME:CEST
DTSTART:20240331T010000
END:DAYLIGHT
BEGIN:STANDARD
TZOFFSETFROM:+0200
TZOFFSETTO:+0100
TZNAME:CET
DTSTART:20241027T010000
END:STANDARD
BEGIN:DAYLIGHT
TZOFFSETFROM:+0100
TZOFFSETTO:+0200
TZNAME:CEST
DTSTART:20250330T010000
END:DAYLIGHT
BEGIN:STANDARD
TZOFFSETFROM:+0200
TZOFFSETTO:+0100
TZNAME:CET
DTSTART:20251026T010000
END:STANDARD
BEGIN:DAYLIGHT
TZOFFSETFROM:+0100
TZOFFSETTO:+0200
TZNAME:CEST
DTSTART:20260329T010000
END:DAYLIGHT
BEGIN:STANDARD
TZOFFSETFROM:+0200
TZOFFSETTO:+0100
TZNAME:CET
DTSTART:20261025T010000
END:STANDARD
BEGIN:DAYLIGHT
TZOFFSETFROM:+0100
TZOFFSETTO:+0200
TZNAME:CEST
DTSTART:20270328T010000
END:DAYLIGHT
BEGIN:STANDARD
TZOFFSETFROM:+0200
TZOFFSETTO:+0100
TZNAME:CET
DTSTART:20271031T010000
END:STANDARD
END:VTIMEZONE
BEGIN:VEVENT
DTSTART;TZID=Europe/Amsterdam:20260207T130000
DTEND;TZID=Europe/Amsterdam:20260208T020000
DTSTAMP:20260420T103627
CREATED:20251114T083421Z
LAST-MODIFIED:20260206T080457Z
UID:10000263-1770469200-1770516000@nederlanddrie.nl
SUMMARY:WPC Nederland 3 - 55 Jaar
DESCRIPTION:WPC Nederland 3 viert 7 februari 2026 alweer 55 jaar muziek\, energie en live­ ervaring. Het is tijd om samen terug én vooruit te kijken en dan liefst op een manier zoals alleen wij dat kunnen: met een onvergetelijke bandjes­ marathon in ons geliefde popcentrum. \n\n\nBands uit het verleden\, nieuwe acts en verrassende samenwerkingen staan centraal. De line‑up is bekend en vind je hieronder\, het wordt een groot feest! \n\n\n\nSpeeltijd\nBand\n\n\n13:15 – 13:45\n3 op een Rij\n\n\n14:00 – 14:30\nGemstone\n\n\n14:45 – 15:15\nThe Spods\n\n\n15:30 – 16:00\nScallywag\n\n\n16:15 – 16:45\nAnthony’s Blues\n\n\n17:00 – 17:30\nTotal disaster\n\n\n17:45 – 18:15\nBantar\n\n\n18:30 – 19:00\nBig spark\n\n\n19:15 -19:45\nBlink 174\n\n\n20:00 – 20:30\nDays of Yore\n\n\n20:45 – 21:15\nStrange Machines\n\n\n21:30 – 22:00\nMonkey Minds\n\n\n22:15 – 22:45\nRocksville\n\n\n23:00 – 23:30\nElectric Rhino\n\n\n23:45 – 01:00\nFinale Trio: Red Label\, Suzy Blue\, Cover Bandits
URL:https://nederlanddrie.nl/evenement/wpc-nederland-3-55-jaar/
CATEGORIES:Blues,Easy Listening,Metal,Pop,Prog,Punk,Rock,Tributes
ATTACH;FMTTYPE=image/jpeg:https://nederlanddrie.nl/wp-content/uploads/55-Jaar-WPC-Viering.jpg
END:VEVENT
BEGIN:VEVENT
DTSTART;TZID=Europe/Amsterdam:20250503T213000
DTEND;TZID=Europe/Amsterdam:20250504T020000
DTSTAMP:20260420T103627
CREATED:20241128T120844Z
LAST-MODIFIED:20250423T071452Z
UID:10000152-1746307800-1746324000@nederlanddrie.nl
SUMMARY:Christie Road + DAYS OF YORE
DESCRIPTION:“Een knallende avond vol punkrock vibes!”\n\n \nMaak je klaar voor een onvergetelijke avond\, want Christie Road brengt de energie van Green Day naar Wateringen! Met alle hits van “Basket Case” tot “American Idiot” zorgt deze tribute ervoor dat je elke noot meezingt en elk rif voelt zoals het hoort. 🎸🔥 \nAlsof dat nog niet genoeg is\, openen we de avond met een optreden van DAYS OF YORE\, 5 old school punkrockers die gezamenlijk zo’n 150 jaar punkrock ervaring hebben. Zij zetten de toon met hun rauwe energie en onweerstaanbare nummers. \n 
URL:https://nederlanddrie.nl/evenement/christie-road-days-of-yore/
CATEGORIES:Punk,Rock
ATTACH;FMTTYPE=image/jpeg:https://nederlanddrie.nl/wp-content/uploads/468670700_122147798912319042_6880518033008146687_n.jpg
END:VEVENT
BEGIN:VEVENT
DTSTART;TZID=Europe/Amsterdam:20250405T210000
DTEND;TZID=Europe/Amsterdam:20250406T020000
DTSTAMP:20260420T103627
CREATED:20250119T085757Z
LAST-MODIFIED:20250324T085654Z
UID:10000176-1743886800-1743904800@nederlanddrie.nl
SUMMARY:Waterproof
DESCRIPTION:Wil jij spelen op Waterpop? Waterproof 2025 biedt geeft jou deze kans! \nBands uit de regio Westland\, Delft en Den Haag hebben zich massaal ingeschreven en we zijn overdonderd door het talent in de regio. De keuze was dan ook allesbehalve makkelijk — het niveau lag hoog en de diversiteit aan stijlen was indrukwekkend. Helaas kunnen er dit jaar maar vier deelnemers geselecteerd worden. \nAan iedereen die zich heeft aangemeld: bedankt voor jullie enthousiasme en inzet! Heb je het dit keer net niet gehaald? Niet getreurd — volgend jaar bieden we opnieuw kansen om je plek op het Waterpop-podium te veroveren. Houd ons in de gaten\, blijf spelen\, blijf groeien\, en wie weet sta jij in 2026 wél in de spotlight! \nDe geselecteerde artiesten zijn:
URL:https://nederlanddrie.nl/evenement/waterproof/
CATEGORIES:Easy Listening,Overige,Pop,Punk,Rock
ATTACH;FMTTYPE=image/webp:https://nederlanddrie.nl/wp-content/uploads/Waterpop-Door-Jolanda-van-Wijhe-1.webp
END:VEVENT
END:VCALENDAR