BEGIN:VCALENDAR
VERSION:2.0
PRODID:-//WPC Nederland Drie - ECPv6.15.20//NONSGML v1.0//EN
CALSCALE:GREGORIAN
METHOD:PUBLISH
X-WR-CALNAME:WPC Nederland Drie
X-ORIGINAL-URL:https://nederlanddrie.nl
X-WR-CALDESC:Evenementen voor WPC Nederland Drie
REFRESH-INTERVAL;VALUE=DURATION:PT1H
X-Robots-Tag:noindex
X-PUBLISHED-TTL:PT1H
BEGIN:VTIMEZONE
TZID:Europe/Amsterdam
BEGIN:DAYLIGHT
TZOFFSETFROM:+0100
TZOFFSETTO:+0200
TZNAME:CEST
DTSTART:20240331T010000
END:DAYLIGHT
BEGIN:STANDARD
TZOFFSETFROM:+0200
TZOFFSETTO:+0100
TZNAME:CET
DTSTART:20241027T010000
END:STANDARD
BEGIN:DAYLIGHT
TZOFFSETFROM:+0100
TZOFFSETTO:+0200
TZNAME:CEST
DTSTART:20250330T010000
END:DAYLIGHT
BEGIN:STANDARD
TZOFFSETFROM:+0200
TZOFFSETTO:+0100
TZNAME:CET
DTSTART:20251026T010000
END:STANDARD
BEGIN:DAYLIGHT
TZOFFSETFROM:+0100
TZOFFSETTO:+0200
TZNAME:CEST
DTSTART:20260329T010000
END:DAYLIGHT
BEGIN:STANDARD
TZOFFSETFROM:+0200
TZOFFSETTO:+0100
TZNAME:CET
DTSTART:20261025T010000
END:STANDARD
END:VTIMEZONE
BEGIN:VEVENT
DTSTART;TZID=Europe/Amsterdam:20250606T213000
DTEND;TZID=Europe/Amsterdam:20250607T010000
DTSTAMP:20260421T193220
CREATED:20250414T111427Z
LAST-MODIFIED:20250414T111427Z
UID:10000188-1749245400-1749258000@nederlanddrie.nl
SUMMARY:Podium Wateringen: The Spods + 3 op een Rij
DESCRIPTION:  \nWPC Nederland 3 organiseert elke 1e vrijdag van de maand ‘podium Wateringen’\, een avond waarop Westlandse bands de vrijheid krijgen om zichzelf te presenteren\, andere muzikanten te ontmoeten en podium ervaring op te doen. \nDitmaal met The Spods en 3 op een Rij \nLaat je verassen door wat het Westland muzikaal te bieden heeft\, de toegang is gratis. \nHeb jij zelf een band met of een band uit het Westland en wil je ook op een podium Wateringen avond optreden? Meld je aan via https://nederlanddrie.nl/spelen-in-drie/
URL:https://nederlanddrie.nl/evenement/podium-wateringen-the-spods-3-op-een-rij/
CATEGORIES:Pop,Rock
ATTACH;FMTTYPE=image/png:https://nederlanddrie.nl/wp-content/uploads/Kopie-van-@wpcnederland3.png
END:VEVENT
BEGIN:VEVENT
DTSTART;TZID=Europe/Amsterdam:20250601T113000
DTEND;TZID=Europe/Amsterdam:20250601T173000
DTSTAMP:20260421T193220
CREATED:20250516T081223Z
LAST-MODIFIED:20250516T081834Z
UID:10000190-1748777400-1748799000@nederlanddrie.nl
SUMMARY:Meesterwerk Finale
DESCRIPTION:De eindoptredens van alweer de negende sessie van Meesterwerk Muziek Westland staan voor de deur. Ook dit seizoen telt het project maar liefst 6 bands\, waarvan er 5 op zondag 1 juni hun performance zullen geven op het podium van WPC Nederland 3 Wateringen. \nLine-up:\n11.30: Vintage\n12.30: Purple Crocodile\n13.45: Let’s Stick Together\n15.00: No Nonsense\n16.15: Blues Train \nDe band Goud zal het eindoptreden verzorgen na de inloopsessie voor seizoen 10 op 31 augustus. De precieze tijden hiervoor worden nog bekend gemaakt. Tijdens deze inloopsessie kunt u zich ook aanmelden als deelnemer voor seizoen 10 of vrijblijvend langskomen om kennis te maken met de organisatie en uw vragen te stellen.
URL:https://nederlanddrie.nl/evenement/meesterwerk-finale-3/
CATEGORIES:Activiteit,Pop,Rock
ATTACH;FMTTYPE=image/jpeg:https://nederlanddrie.nl/wp-content/uploads/Afbeelding-van-WhatsApp-op-2025-05-14-om-14.32.36_d9cfc8a6.jpg
END:VEVENT
BEGIN:VEVENT
DTSTART;TZID=Europe/Amsterdam:20250531T213000
DTEND;TZID=Europe/Amsterdam:20250601T020000
DTSTAMP:20260421T193220
CREATED:20241222T083435Z
LAST-MODIFIED:20241222T083435Z
UID:10000163-1748727000-1748743200@nederlanddrie.nl
SUMMARY:Bonavox (U2 Tribute)
DESCRIPTION:Op zaterdag 31 mei 2025 haalt U2 Tribute Bonavox de muziek en magie van U2 naar Wateringen. Dit tribute concert is een avond die fans absoluut niet willen missen. De van oorsprong Belgische en Nederlandse U2 Tribute band brengt dan de grootste hits en meezingers van U2. Hun performance raakt de essentie en energie van een echte U2-show. Denk hierbij aan iconische nummers zoals “With or Without You\,” “One\,” “Beautiful Day” en “Sunday Bloody Sunday.” Deze nummers worden gespeeld met passie en precisie\, alsof je midden in een live optreden van U2 staat. \n \n 
URL:https://nederlanddrie.nl/evenement/bonavox-u2-tribute/
CATEGORIES:Pop,Rock,Tributes
ATTACH;FMTTYPE=image/jpeg:https://nederlanddrie.nl/wp-content/uploads/banner-1-scaled.jpg
END:VEVENT
BEGIN:VEVENT
DTSTART;TZID=Europe/Amsterdam:20250523T213000
DTEND;TZID=Europe/Amsterdam:20250524T010000
DTSTAMP:20260421T193220
CREATED:20250428T131659Z
LAST-MODIFIED:20250428T131916Z
UID:10000189-1748035800-1748048400@nederlanddrie.nl
SUMMARY:Hofstad Radio: 40's Up Dance Night
DESCRIPTION:🎶✨ Welkom bij de 40’s Up Dance Night! ✨🎶 \nVanavond nemen we je mee op een muzikale tijdreis vol soul\, disco en onvergetelijke classics! Hofstad Radio\, waar popmuziek leeft\, presenteert deze swingende avond speciaal voor iedereen die weet dat dansplezier geen leeftijd kent. \nVanaf 21:00 uur openen we de deuren van Nederland 3 in Wateringen. Stap de dansvloer op en laat je meevoeren door de fantastische hits uit de jaren ’70 en ’80! Dit is de avond om te genieten\, te lachen en te dansen met vrienden! \nMis het niet en breng je beste moves mee!
URL:https://nederlanddrie.nl/evenement/hofstad-radio-40s-up-dance-night/
CATEGORIES:Pop
ATTACH;FMTTYPE=image/jpeg:https://nederlanddrie.nl/wp-content/uploads/40s_up_converted-scaled.jpg
END:VEVENT
BEGIN:VEVENT
DTSTART;TZID=Europe/Amsterdam:20250509T213000
DTEND;TZID=Europe/Amsterdam:20250510T010000
DTSTAMP:20260421T193220
CREATED:20250203T092157Z
LAST-MODIFIED:20250203T093256Z
UID:10000178-1746826200-1746838800@nederlanddrie.nl
SUMMARY:80s Rock Party: Gold Pepper + Silverback Storm
DESCRIPTION:🎸🔥 Welkom bij de Ultieme 80s Rock Night! 🔥🎸 \nDames en heren\, rockers van alle leeftijden—maak je klaar om het volume op te schroeven en terug te reizen naar het glorieuze\, explosieve en rebelse tijdperk van de 80s! 🕶️⚡ Vanavond brengen we de legendarische anthems\, scheurende gitaarsolo’s en de onstuitbare energie van rock ‘n’ roll terug met twee waanzinnige coverbands die het dak eraf gaan blazen! \n🔥 Gold Pepper – Pittig\, krachtig en vol vuur\, met iconische 80s anthems die je ziel in lichterlaaie zetten! 🌶️✨\n⚡ Silverback Storm – Een donderende rockkracht die door de grootste hits raast met pure\, ontembare energie! 🌪️🎶 \nEn alsof dat nog niet genoeg is… Trek je beste 80s outfit uit de kast\, want er zijn prijs te winnen voor het beste outfit! 🏆✨ \nDus toupeer dat haar\, trek je leren jack aan en maak je klaar voor een avond vol epische gitaarriffs\, schreeuwende vocalen en pure 80s magie! Wie is er klaar om te ROCKEN?! 🤘🔊🎤 \n 
URL:https://nederlanddrie.nl/evenement/80s-rock-party-gold-pepper-silverback-storm/
CATEGORIES:Pop,Rock
ATTACH;FMTTYPE=image/jpeg:https://nederlanddrie.nl/wp-content/uploads/475100899_122189467136146933_7012299575800501154_n.jpg
END:VEVENT
BEGIN:VEVENT
DTSTART;TZID=Europe/Amsterdam:20250502T213000
DTEND;TZID=Europe/Amsterdam:20250503T010000
DTSTAMP:20260421T193220
CREATED:20250328T130506Z
LAST-MODIFIED:20250429T092344Z
UID:10000184-1746221400-1746234000@nederlanddrie.nl
SUMMARY:Podium Wateringen: Electric Rhino + Base-Sick
DESCRIPTION:  \nWPC Nederland 3 organiseert elke 1e vrijdag van de maand ‘podium Wateringen’\, een avond waarop Westlandse bands de vrijheid krijgen om zichzelf te presenteren\, andere muzikanten te ontmoeten en podium ervaring op te doen. \nDitmaal met Electric Rhino en Peace of Mind \nLaat je verassen door wat het Westland muzikaal te bieden heeft\, de toegang is gratis. \nHeb jij zelf een band met of een band uit het Westland en wil je ook op een podium Wateringen avond optreden? Meld je aan via https://nederlanddrie.nl/spelen-in-drie/
URL:https://nederlanddrie.nl/evenement/podium-wateringen-mei/
CATEGORIES:Pop,Rock
ATTACH;FMTTYPE=image/png:https://nederlanddrie.nl/wp-content/uploads/Kopie-van-@wpcnederland3.png
END:VEVENT
END:VCALENDAR