BEGIN:VCALENDAR
VERSION:2.0
PRODID:-//WPC Nederland Drie - ECPv6.15.20//NONSGML v1.0//EN
CALSCALE:GREGORIAN
METHOD:PUBLISH
X-WR-CALNAME:WPC Nederland Drie
X-ORIGINAL-URL:https://nederlanddrie.nl
X-WR-CALDESC:Evenementen voor WPC Nederland Drie
REFRESH-INTERVAL;VALUE=DURATION:PT1H
X-Robots-Tag:noindex
X-PUBLISHED-TTL:PT1H
BEGIN:VTIMEZONE
TZID:Europe/Amsterdam
BEGIN:DAYLIGHT
TZOFFSETFROM:+0100
TZOFFSETTO:+0200
TZNAME:CEST
DTSTART:20250330T010000
END:DAYLIGHT
BEGIN:STANDARD
TZOFFSETFROM:+0200
TZOFFSETTO:+0100
TZNAME:CET
DTSTART:20251026T010000
END:STANDARD
BEGIN:DAYLIGHT
TZOFFSETFROM:+0100
TZOFFSETTO:+0200
TZNAME:CEST
DTSTART:20260329T010000
END:DAYLIGHT
BEGIN:STANDARD
TZOFFSETFROM:+0200
TZOFFSETTO:+0100
TZNAME:CET
DTSTART:20261025T010000
END:STANDARD
BEGIN:DAYLIGHT
TZOFFSETFROM:+0100
TZOFFSETTO:+0200
TZNAME:CEST
DTSTART:20270328T010000
END:DAYLIGHT
BEGIN:STANDARD
TZOFFSETFROM:+0200
TZOFFSETTO:+0100
TZNAME:CET
DTSTART:20271031T010000
END:STANDARD
END:VTIMEZONE
BEGIN:VEVENT
DTSTART;TZID=Europe/Amsterdam:20260116T213000
DTEND;TZID=Europe/Amsterdam:20260117T010000
DTSTAMP:20260421T233927
CREATED:20250717T095004Z
LAST-MODIFIED:20251211T084329Z
UID:10000222-1768599000-1768611600@nederlanddrie.nl
SUMMARY:Podium Wateringen: Jento + Rock solid
DESCRIPTION:Ontdek Podium Wateringen waar lokale muzikanten iedere eerste vrijdag van de maand het licht delen op het professionele podium van Westlands Pop Centrum Nederland 3. \nToegang is gratis en ontdek wat het Westland muzikaal te bieden heeft.
URL:https://nederlanddrie.nl/evenement/podium-wateringen-4/
LOCATION:Westlandse Pop Centrum Nederland 3\, Lange Spruit 84\, Wateringen\, 2291 LC\, Nederland
CATEGORIES:Overige,Pop,Rock
ATTACH;FMTTYPE=image/png:https://nederlanddrie.nl/wp-content/uploads/Podium-Wateringen-Januari-1.png
END:VEVENT
BEGIN:VEVENT
DTSTART;TZID=Europe/Amsterdam:20260118T130000
DTEND;TZID=Europe/Amsterdam:20260118T173000
DTSTAMP:20260421T233927
CREATED:20251211T114131Z
LAST-MODIFIED:20251211T114131Z
UID:10000265-1768741200-1768757400@nederlanddrie.nl
SUMMARY:Meesterwerk Finale Deel 1
DESCRIPTION:De eindoptredens van alweer de tiende sessie van Meesterwerk Muziek Westland staan voor de deur. Het project voor en door muzikale 55-plussers blijft een groot succes met deze sessie wederom zo’n 50 deelnemers! \nDe zeven deelnemende bands aan de tiende sessie zullen hun eindoptredens verdeeld over 18 en 25 januari uitvoeren. Op zondag 18 januari begint de eerste band om 13:00 en op zondag 25 januari start de eerste band om 14:15. \nOp zondag 25 januari wordt ook vanaf 12:30 de gebruikelijke inloopmiddag gehouden\, waar deelnemers en nieuwe belangstellenden voor het project Meesterwerk Muziek zich kunnen laten informeren en kunnen inschrijven voor sessie 11!
URL:https://nederlanddrie.nl/evenement/meesterwerk-finale-deel-1/
CATEGORIES:Blues,Pop,Rock
ATTACH;FMTTYPE=image/jpeg:https://nederlanddrie.nl/wp-content/uploads/Afbeelding-van-WhatsApp-op-2025-05-14-om-14.32.36_d9cfc8a6.jpg
END:VEVENT
BEGIN:VEVENT
DTSTART;TZID=Europe/Amsterdam:20260125T123000
DTEND;TZID=Europe/Amsterdam:20260125T173000
DTSTAMP:20260421T233927
CREATED:20251211T114431Z
LAST-MODIFIED:20251211T114431Z
UID:10000266-1769344200-1769362200@nederlanddrie.nl
SUMMARY:Inloopmiddag en Meesterwerk Finale deel 2
DESCRIPTION:De eindoptredens van alweer de tiende sessie van Meesterwerk Muziek Westland staan voor de deur. Het project voor en door muzikale 55-plussers blijft een groot succes met deze sessie wederom zo’n 50 deelnemers! \nDe zeven deelnemende bands aan de tiende sessie zullen hun eindoptredens verdeeld over 18 en 25 januari uitvoeren. Op zondag 18 januari begint de eerste band om 13:00 en op zondag 25 januari start de eerste band om 14:15. \nOp zondag 25 januari wordt ook vanaf 12:30 de gebruikelijke inloopmiddag gehouden\, waar deelnemers en nieuwe belangstellenden voor het project Meesterwerk Muziek zich kunnen laten informeren en kunnen inschrijven voor sessie 11!
URL:https://nederlanddrie.nl/evenement/inloopmiddag-en-meesterwerk-finale-deel-2/
CATEGORIES:Blues,Pop,Rock
ATTACH;FMTTYPE=image/jpeg:https://nederlanddrie.nl/wp-content/uploads/Afbeelding-van-WhatsApp-op-2025-05-14-om-14.32.36_d9cfc8a6.jpg
END:VEVENT
BEGIN:VEVENT
DTSTART;TZID=Europe/Amsterdam:20260206T213000
DTEND;TZID=Europe/Amsterdam:20260207T010000
DTSTAMP:20260421T233927
CREATED:20250717T095139Z
LAST-MODIFIED:20251217T074523Z
UID:10000224-1770413400-1770426000@nederlanddrie.nl
SUMMARY:Podium Wateringen: The Guardians + 10 Ct Pistol
DESCRIPTION:Ontdek Podium Wateringen waar lokale muzikanten iedere eerste vrijdag van de maand het licht delen op het professionele podium van Westlands Pop Centrum Nederland 3. \nToegang is gratis en ontdek wat het Westland muzikaal te bieden heeft.
URL:https://nederlanddrie.nl/evenement/podium-wateringen-5/
CATEGORIES:Overige,Pop,Rock
ATTACH;FMTTYPE=image/png:https://nederlanddrie.nl/wp-content/uploads/Podium-Wateringen-Banner-1.png
END:VEVENT
BEGIN:VEVENT
DTSTART;TZID=Europe/Amsterdam:20260207T130000
DTEND;TZID=Europe/Amsterdam:20260208T020000
DTSTAMP:20260421T233927
CREATED:20251114T083421Z
LAST-MODIFIED:20260206T080457Z
UID:10000263-1770469200-1770516000@nederlanddrie.nl
SUMMARY:WPC Nederland 3 - 55 Jaar
DESCRIPTION:WPC Nederland 3 viert 7 februari 2026 alweer 55 jaar muziek\, energie en live­ ervaring. Het is tijd om samen terug én vooruit te kijken en dan liefst op een manier zoals alleen wij dat kunnen: met een onvergetelijke bandjes­ marathon in ons geliefde popcentrum. \n\n\nBands uit het verleden\, nieuwe acts en verrassende samenwerkingen staan centraal. De line‑up is bekend en vind je hieronder\, het wordt een groot feest! \n\n\n\nSpeeltijd\nBand\n\n\n13:15 – 13:45\n3 op een Rij\n\n\n14:00 – 14:30\nGemstone\n\n\n14:45 – 15:15\nThe Spods\n\n\n15:30 – 16:00\nScallywag\n\n\n16:15 – 16:45\nAnthony’s Blues\n\n\n17:00 – 17:30\nTotal disaster\n\n\n17:45 – 18:15\nBantar\n\n\n18:30 – 19:00\nBig spark\n\n\n19:15 -19:45\nBlink 174\n\n\n20:00 – 20:30\nDays of Yore\n\n\n20:45 – 21:15\nStrange Machines\n\n\n21:30 – 22:00\nMonkey Minds\n\n\n22:15 – 22:45\nRocksville\n\n\n23:00 – 23:30\nElectric Rhino\n\n\n23:45 – 01:00\nFinale Trio: Red Label\, Suzy Blue\, Cover Bandits
URL:https://nederlanddrie.nl/evenement/wpc-nederland-3-55-jaar/
CATEGORIES:Blues,Easy Listening,Metal,Pop,Prog,Punk,Rock,Tributes
ATTACH;FMTTYPE=image/jpeg:https://nederlanddrie.nl/wp-content/uploads/55-Jaar-WPC-Viering.jpg
END:VEVENT
BEGIN:VEVENT
DTSTART;TZID=Europe/Amsterdam:20260213T213000
DTEND;TZID=Europe/Amsterdam:20260214T010000
DTSTAMP:20260421T233927
CREATED:20251215T124431Z
LAST-MODIFIED:20251217T074826Z
UID:10000269-1771018200-1771030800@nederlanddrie.nl
SUMMARY:Rock 'n Roll Junkies - Herman Brood Tribute Band
DESCRIPTION:Puur\, rauw\, energiek\, snel & retrostijl. Een twee uur durend spetterende ode aan de opwindendste rock & roll band die Nederland ooit heeft gekend. \nRock ’n Roll Junkies laten de wervelende hoogtijdagen van Herman Brood & His Wild Romance onvervalst herleven!\n\n100% Brood. Recht uit het hart.
URL:https://nederlanddrie.nl/evenement/rock-n-roll-junkies/
LOCATION:Westlandse Pop Centrum Nederland 3\, Lange Spruit 84\, Wateringen\, 2291 LC\, Nederland
CATEGORIES:Pop,Rock
ATTACH;FMTTYPE=image/jpeg:https://nederlanddrie.nl/wp-content/uploads/IMG-20251120-WA0011.jpg
ORGANIZER;CN="Westlandse Pop Centrum Nederland 3":MAILTO:bookings@nederlanddrie.nl
END:VEVENT
BEGIN:VEVENT
DTSTART;TZID=Europe/Amsterdam:20260220T213000
DTEND;TZID=Europe/Amsterdam:20260221T010000
DTSTAMP:20260421T233927
CREATED:20260104T145127Z
LAST-MODIFIED:20260104T145624Z
UID:10000274-1771623000-1771635600@nederlanddrie.nl
SUMMARY:Future Hearts + After Eight
DESCRIPTION:Maak je klaar voor een krachtige live-avond met Future Hearts en After Eight. Verwacht pakkende melodieën\, stevige gitaren en songs die blijven hangen. Twee bands\, één podium.
URL:https://nederlanddrie.nl/evenement/future-hearts-after-eight/
LOCATION:Westlandse Pop Centrum Nederland 3\, Lange Spruit 84\, Wateringen\, 2291 LC\, Nederland
CATEGORIES:Pop,Rock
ATTACH;FMTTYPE=image/png:https://nederlanddrie.nl/wp-content/uploads/Future-Hearts-After-Eight-1.png
ORGANIZER;CN="Westlandse Pop Centrum Nederland 3":MAILTO:bookings@nederlanddrie.nl
END:VEVENT
BEGIN:VEVENT
DTSTART;TZID=Europe/Amsterdam:20260227T213000
DTEND;TZID=Europe/Amsterdam:20260228T010000
DTSTAMP:20260421T233927
CREATED:20251215T130340Z
LAST-MODIFIED:20251215T130640Z
UID:10000270-1772227800-1772240400@nederlanddrie.nl
SUMMARY:Goldpepper vs Silverback Storm - 80's Mashup
DESCRIPTION:2 Bands – 1 Setlijst10 Muzikanten – 1 Podium100% 80’s Power \n\nBereid je voor op iets wat je nog nooit hebt gezien of gehoord. Op deze speciale avond smelten Gold Pepper en Silverback Storm samen tot één gigantisch 80’s-monster van een live show. Geen wisselende bands\, geen pauzes\, één overweldigende wall of sound waarin twee volledige bands tegelijk de grootste knallers uit de jaren ’80 afvuren.\nVier gitaristen die elkaar opstuwen met riffs en solo’s. Twee drummers die het dak er gelijktijdig af beuken.Meerdere zangers en zangeressen die de typische 80’s powerballads en rock-anthems naar epische hoogte tillen.Synths\, harmonieën en precies de juiste dosis gecontroleerde chaos.\nDit is geen concert.Dit is een muzikale tag-team cage match.Dit is Gold Pepper vs. Silverback Storm.\nVerwacht:– 80’s rock- en popklassiekers– Een massieve set vol iconische nummers– Muzikanten die komen en gaan tijdens de show– Een ervaring die elke 80’s-fan moet meemaken
URL:https://nederlanddrie.nl/evenement/goldpepper-vs-silverback-storm-80s-mashup/
LOCATION:Westlandse Pop Centrum Nederland 3\, Lange Spruit 84\, Wateringen\, 2291 LC\, Nederland
CATEGORIES:Pop,Rock
ATTACH;FMTTYPE=image/jpeg:https://nederlanddrie.nl/wp-content/uploads/589005998_122146339310904045_5776050280782414435_n.jpg
ORGANIZER;CN="Westlandse Pop Centrum Nederland 3":MAILTO:bookings@nederlanddrie.nl
END:VEVENT
BEGIN:VEVENT
DTSTART;TZID=Europe/Amsterdam:20260306T213000
DTEND;TZID=Europe/Amsterdam:20260307T010000
DTSTAMP:20260421T233927
CREATED:20250717T095523Z
LAST-MODIFIED:20260227T173709Z
UID:10000226-1772832600-1772845200@nederlanddrie.nl
SUMMARY:Podium Wateringen
DESCRIPTION:Ontdek Podium Wateringen waar lokale muzikanten iedere eerste vrijdag van de maand het licht delen op het professionele podium van Westlands Pop Centrum Nederland 3. \nToegang is gratis en ontdek wat het Westland muzikaal te bieden heeft.
URL:https://nederlanddrie.nl/evenement/podium-wateringen-6/
CATEGORIES:Overige,Pop,Rock
ATTACH;FMTTYPE=image/png:https://nederlanddrie.nl/wp-content/uploads/Podium-Wateringen-Banner-1.png
END:VEVENT
BEGIN:VEVENT
DTSTART;TZID=Europe/Amsterdam:20260307T213000
DTEND;TZID=Europe/Amsterdam:20260308T020000
DTSTAMP:20260421T233927
CREATED:20251215T104858Z
LAST-MODIFIED:20260114T084836Z
UID:10000267-1772919000-1772935200@nederlanddrie.nl
SUMMARY:Snake Union - Duran Duran Tribute
DESCRIPTION:“Nadat dé rijzende ster uit het Nederlandse Tribute landschap vorig seizoen al de dakpannen van het dak speelde in WPC NL3 en geroemd werd als één van de beste bands van het seizoen 2025\, komen ze gelukkig dit jaar weer terug! Voorkom dat je achter het net vist en bestel ruim op tijd je kaartje(s) want VOL=VOL.”\n\nDuran Duran. Een iconische band die eigenhandig de muziekwereld in de 80er jaren een gezicht gaf. Één van de eerste bands die MTV omarmde en met muziekvideo’s bands en muzikanten een gezicht gaf. Het resultaat: meer dan 20 hits over de gehele wereld. Stadion tours die tot op de dag van vandaag nog steeds uitverkopen. \nDe band van The Reflex\, The Wild Boys\, Ordinary World\, Rio en Save a Prayer\, maar ook van nog zoveel meer geweldige nummers\, denk bijvoorbeeld aan Planet Earth\, Careless Memories\, Paper Gods en New Religion.
URL:https://nederlanddrie.nl/evenement/snake-union-duran-duran-tribute/
CATEGORIES:Pop,Rock
ATTACH;FMTTYPE=image/jpeg:https://nederlanddrie.nl/wp-content/uploads/WPC.jpg
ORGANIZER;CN="Westlandse Pop Centrum Nederland 3":MAILTO:bookings@nederlanddrie.nl
END:VEVENT
BEGIN:VEVENT
DTSTART;TZID=Europe/Amsterdam:20260403T213000
DTEND;TZID=Europe/Amsterdam:20260404T010000
DTSTAMP:20260421T233927
CREATED:20250717T095643Z
LAST-MODIFIED:20260324T180537Z
UID:10000227-1775251800-1775264400@nederlanddrie.nl
SUMMARY:Podium Wateringen: Strange Machines + Thirty Something
DESCRIPTION:Ontdek Podium Wateringen waar lokale muzikanten iedere eerste vrijdag van de maand het licht delen op het professionele podium van Westlands Pop Centrum Nederland 3. \nToegang is gratis en ontdek wat het Westland muzikaal te bieden heeft.
URL:https://nederlanddrie.nl/evenement/podium-wateringen-7/
CATEGORIES:Overige,Pop,Rock
ATTACH;FMTTYPE=image/png:https://nederlanddrie.nl/wp-content/uploads/Podium-Wateringen-Banner-1.png
END:VEVENT
BEGIN:VEVENT
DTSTART;TZID=Europe/Amsterdam:20260404T213000
DTEND;TZID=Europe/Amsterdam:20260405T020000
DTSTAMP:20260421T233927
CREATED:20260127T122017Z
LAST-MODIFIED:20260129T094357Z
UID:10000278-1775338200-1775354400@nederlanddrie.nl
SUMMARY:Bonavox (U2 Tribute)
DESCRIPTION:Op zaterdag 4 April 2026 haalt U2 Tribute Bonavox de muziek en magie van U2 naar Wateringen. Dit tribute concert is een avond die fans absoluut niet willen missen. De van oorsprong Belgische en Nederlandse U2 Tribute band brengt dan de grootste hits en meezingers van U2. Hun performance raakt de essentie en energie van een echte U2-show. Denk hierbij aan iconische nummers zoals “With or Without You\,” “One\,” “Beautiful Day” en “Sunday Bloody Sunday.” Deze nummers worden gespeeld met passie en precisie\, alsof je midden in een live optreden van U2 staat. \n \n 
URL:https://nederlanddrie.nl/evenement/bonavox-u2-tribute-2/
CATEGORIES:Pop,Rock,Tributes
ATTACH;FMTTYPE=image/jpeg:https://nederlanddrie.nl/wp-content/uploads/banner-1-scaled.jpg
END:VEVENT
BEGIN:VEVENT
DTSTART;TZID=Europe/Amsterdam:20260501T213000
DTEND;TZID=Europe/Amsterdam:20260502T010000
DTSTAMP:20260421T233927
CREATED:20250717T095813Z
LAST-MODIFIED:20260416T074331Z
UID:10000228-1777671000-1777683600@nederlanddrie.nl
SUMMARY:Podium Wateringen: De BierBand + EQUAL ANIMALS
DESCRIPTION:Ontdek Podium Wateringen waar lokale muzikanten iedere eerste vrijdag van de maand het licht delen op het professionele podium van Westlands Pop Centrum Nederland 3. \nToegang is gratis en ontdek wat het Westland muzikaal te bieden heeft. \nTijdschema \n21:00 Deur open\n21:30 EQUAL ANIMALS\n22:45 De BierBand
URL:https://nederlanddrie.nl/evenement/podium-wateringen-8/
CATEGORIES:Overige,Pop,Rock
ATTACH;FMTTYPE=image/png:https://nederlanddrie.nl/wp-content/uploads/Podium-Wateringen-Banner-1.png
END:VEVENT
BEGIN:VEVENT
DTSTART;TZID=Europe/Amsterdam:20260515T213000
DTEND;TZID=Europe/Amsterdam:20260516T010000
DTSTAMP:20260421T233927
CREATED:20260103T110738Z
LAST-MODIFIED:20260108T141922Z
UID:10000272-1778880600-1778893200@nederlanddrie.nl
SUMMARY:EZie band
DESCRIPTION:Uit passie voor muziek besloten in 20213 twee medewerkers van het ministerie van Economische Zaken (EZ) de EZie band op te richten. Met hun relaxte benadering van gezamenlijk muziek maken heeft de band verschillende genres gespeeld. De naam zelf is een verwijzing naar het ministerie waar de band repeteert maar ook een knipoog naar het woord easy. Dat is precies wat de band wil uitstralen met herkenbare muziek voor iedereen. Dat zie je terug in de onderlinge creatieve samenwerking en het repertoire.
URL:https://nederlanddrie.nl/evenement/ezie-band/
CATEGORIES:Pop,Rock
ATTACH;FMTTYPE=image/jpeg:https://nederlanddrie.nl/wp-content/uploads/20250919-DSC_1462-scaled.jpg
END:VEVENT
BEGIN:VEVENT
DTSTART;TZID=Europe/Amsterdam:20260529T213000
DTEND;TZID=Europe/Amsterdam:20260530T010000
DTSTAMP:20260421T233927
CREATED:20260223T105743Z
LAST-MODIFIED:20260308T114102Z
UID:10000282-1780090200-1780102800@nederlanddrie.nl
SUMMARY:Lesley and the Flaming Stars
DESCRIPTION:Op vrijdag 29 mei 2026 staat WPC Nederland 3 volledig in het teken van pure\, authentieke rock n roll. Vijf gepassioneerde muzikanten met een gedeelde liefde voor de gouden jaren van de muziek nemen je mee terug naar de tijd van vetkuiven\, swingende heupen en onvergetelijke melodieën. \nLesley and the Flaming Stars brengen een eigen\, energieke ode aan de legendarische Elvis Presley. Verwacht een avond vol herkenbare klassiekers\, meeslepende ballads en verrassende arrangementen die de muziek van toen een frisse\, eigentijdse twist geven. Van opzwepende hits tot gevoelige nummers die recht het hart raken\, alles komt voorbij.
URL:https://nederlanddrie.nl/evenement/lesley-and-the-flaming-stars/
LOCATION:Westlandse Pop Centrum Nederland 3\, Lange Spruit 84\, Wateringen\, 2291 LC\, Nederland
CATEGORIES:Pop,Rock,Tributes
ATTACH;FMTTYPE=image/jpeg:https://nederlanddrie.nl/wp-content/uploads/7780.jpg
ORGANIZER;CN="Westlandse Pop Centrum Nederland 3":MAILTO:bookings@nederlanddrie.nl
END:VEVENT
BEGIN:VEVENT
DTSTART;TZID=Europe/Amsterdam:20260530T213000
DTEND;TZID=Europe/Amsterdam:20260531T020000
DTSTAMP:20260421T233927
CREATED:20260302T115503Z
LAST-MODIFIED:20260302T115637Z
UID:10000283-1780176600-1780192800@nederlanddrie.nl
SUMMARY:Onderuit + Walter Bijenkonink Band
DESCRIPTION:Een avond vol Nederlandse muziek\, herkenning en pure live-energie! \nMet Onderuit\, dé tribute aan De Dijk\, hoor je de tijdloze Nederpopklassiekers zoals ze bedoeld zijn: rauw\, soulvol en recht uit het hart. Meezingen gegarandeerd! \nDaarnaast betreedt de Walter Bijenkonink Band het podium\, een energieke Haagse band die bekendstaat om hun eigen sound\, sterke live-performance en liefde voor eerlijke\, ongepolijste muziek. \nVerwacht een avond vol sfeer\, dansbare grooves en muzikale verhalen.Gewoon een goed avondje live muziek\, zoals het hoort.
URL:https://nederlanddrie.nl/evenement/onderuit-walter-bijenkonink-band/
LOCATION:Westlandse Pop Centrum Nederland 3\, Lange Spruit 84\, Wateringen\, 2291 LC\, Nederland
CATEGORIES:Pop,Rock,Tributes
ATTACH;FMTTYPE=image/jpeg:https://nederlanddrie.nl/wp-content/uploads/488774884_8784041918363650_8881226424778004001_n.jpg
ORGANIZER;CN="Westlandse Pop Centrum Nederland 3":MAILTO:bookings@nederlanddrie.nl
END:VEVENT
BEGIN:VEVENT
DTSTART;TZID=Europe/Amsterdam:20260605T213000
DTEND;TZID=Europe/Amsterdam:20260606T010000
DTSTAMP:20260421T233927
CREATED:20250717T095925Z
LAST-MODIFIED:20250717T095925Z
UID:10000229-1780695000-1780707600@nederlanddrie.nl
SUMMARY:Podium Wateringen
DESCRIPTION:Ontdek Podium Wateringen waar lokale muzikanten iedere eerste vrijdag van de maand het licht delen op het professionele podium van Westlands Pop Centrum Nederland 3. \nToegang is gratis en ontdek wat het Westland muzikaal te bieden heeft.
URL:https://nederlanddrie.nl/evenement/podium-wateringen-9/
CATEGORIES:Overige,Pop,Rock
ATTACH;FMTTYPE=image/png:https://nederlanddrie.nl/wp-content/uploads/Podium-Wateringen-Banner-1.png
END:VEVENT
BEGIN:VEVENT
DTSTART;TZID=Europe/Amsterdam:20260619T213000
DTEND;TZID=Europe/Amsterdam:20260620T020000
DTSTAMP:20260421T233927
CREATED:20260317T082955Z
LAST-MODIFIED:20260317T083026Z
UID:10000287-1781904600-1781920800@nederlanddrie.nl
SUMMARY:De Bus + ROKUS
DESCRIPTION:Maak je klaar voor een avond vol energie bij WPC Nederland 3! 🎸🔥 \nMet ROKUS en De Bus op het podium wordt het een perfecte mix van rauwe grunge\, Nederpop en een flinke dosis ska en feest. Verwacht stevige riffs\, meeslepende nummers én een bak energie waar je niet stil bij kunt blijven staan. \nOf je nou komt om te luisteren\, mee te zingen of gewoon om los te gaan: dit wordt zo’n avond waar alles klopt en waar je nog lang over napraat. 🎶🍻
URL:https://nederlanddrie.nl/evenement/de-bus-rokus/
LOCATION:Westlandse Pop Centrum Nederland 3\, Lange Spruit 84\, Wateringen\, 2291 LC\, Nederland
CATEGORIES:Pop,Rock
ATTACH;FMTTYPE=image/jpeg:https://nederlanddrie.nl/wp-content/uploads/2025-Profronde-Westland-04.jpg
ORGANIZER;CN="Westlandse Pop Centrum Nederland 3":MAILTO:bookings@nederlanddrie.nl
END:VEVENT
BEGIN:VEVENT
DTSTART;TZID=Europe/Amsterdam:20260620T213000
DTEND;TZID=Europe/Amsterdam:20260621T020000
DTSTAMP:20260421T233927
CREATED:20260206T095752Z
LAST-MODIFIED:20260206T123142Z
UID:10000281-1781991000-1782007200@nederlanddrie.nl
SUMMARY:Awoei! (Doe Maar Tribute) + Switchback
DESCRIPTION:De Bom\, Nachtzuster\, Smoorverliefd\, Pa\, Belle Helene\, 1 Nacht Alleen! Is Dit Alles? Nee hoor\, er komt nog veel meer voorbij! Awoei! zal het roze en groen om de oren doen gaan kleuren! \nAwoei! is een tribute band die de muziek van de Nederpopsensatie uit de jaren 80 “Doe Maar” graag levend wil houden op festivals\, poppodia en andere feesten.\nAwoei! speelt niet de arrangementen van de 4 mans formatie maar\, zoals de bezetting al een beetje verraad\, komt de inspiratie van onder andere de Symphonica in Rosso concerten uit 2012 en het reunie concert Hees van Ahoy uit 2000. Met blazers\, backing vocalisten en vooral samen met het publiek één groot feest. \nDansen mag maar meezingen is gegarandeerd. Het gaat vanzelf.
URL:https://nederlanddrie.nl/evenement/awoei-doe-maar-tribute-switchback/
CATEGORIES:Pop,Tributes
ATTACH;FMTTYPE=image/jpeg:https://nederlanddrie.nl/wp-content/uploads/5.jpg
END:VEVENT
END:VCALENDAR