BEGIN:VCALENDAR
VERSION:2.0
PRODID:-//WPC Nederland Drie - ECPv6.15.20//NONSGML v1.0//EN
CALSCALE:GREGORIAN
METHOD:PUBLISH
X-ORIGINAL-URL:https://nederlanddrie.nl
X-WR-CALDESC:Evenementen voor WPC Nederland Drie
REFRESH-INTERVAL;VALUE=DURATION:PT1H
X-Robots-Tag:noindex
X-PUBLISHED-TTL:PT1H
BEGIN:VTIMEZONE
TZID:Europe/Amsterdam
BEGIN:DAYLIGHT
TZOFFSETFROM:+0100
TZOFFSETTO:+0200
TZNAME:CEST
DTSTART:20240331T010000
END:DAYLIGHT
BEGIN:STANDARD
TZOFFSETFROM:+0200
TZOFFSETTO:+0100
TZNAME:CET
DTSTART:20241027T010000
END:STANDARD
BEGIN:DAYLIGHT
TZOFFSETFROM:+0100
TZOFFSETTO:+0200
TZNAME:CEST
DTSTART:20250330T010000
END:DAYLIGHT
BEGIN:STANDARD
TZOFFSETFROM:+0200
TZOFFSETTO:+0100
TZNAME:CET
DTSTART:20251026T010000
END:STANDARD
BEGIN:DAYLIGHT
TZOFFSETFROM:+0100
TZOFFSETTO:+0200
TZNAME:CEST
DTSTART:20260329T010000
END:DAYLIGHT
BEGIN:STANDARD
TZOFFSETFROM:+0200
TZOFFSETTO:+0100
TZNAME:CET
DTSTART:20261025T010000
END:STANDARD
END:VTIMEZONE
BEGIN:VEVENT
DTSTART;TZID=Europe/Amsterdam:20250601T113000
DTEND;TZID=Europe/Amsterdam:20250601T173000
DTSTAMP:20260422T065559
CREATED:20250516T081223Z
LAST-MODIFIED:20250516T081834Z
UID:10000190-1748777400-1748799000@nederlanddrie.nl
SUMMARY:Meesterwerk Finale
DESCRIPTION:De eindoptredens van alweer de negende sessie van Meesterwerk Muziek Westland staan voor de deur. Ook dit seizoen telt het project maar liefst 6 bands\, waarvan er 5 op zondag 1 juni hun performance zullen geven op het podium van WPC Nederland 3 Wateringen. \nLine-up:\n11.30: Vintage\n12.30: Purple Crocodile\n13.45: Let’s Stick Together\n15.00: No Nonsense\n16.15: Blues Train \nDe band Goud zal het eindoptreden verzorgen na de inloopsessie voor seizoen 10 op 31 augustus. De precieze tijden hiervoor worden nog bekend gemaakt. Tijdens deze inloopsessie kunt u zich ook aanmelden als deelnemer voor seizoen 10 of vrijblijvend langskomen om kennis te maken met de organisatie en uw vragen te stellen.
URL:https://nederlanddrie.nl/evenement/meesterwerk-finale-3/
CATEGORIES:Activiteit,Pop,Rock
ATTACH;FMTTYPE=image/jpeg:https://nederlanddrie.nl/wp-content/uploads/Afbeelding-van-WhatsApp-op-2025-05-14-om-14.32.36_d9cfc8a6.jpg
END:VEVENT
BEGIN:VEVENT
DTSTART;TZID=Europe/Amsterdam:20250606T213000
DTEND;TZID=Europe/Amsterdam:20250607T010000
DTSTAMP:20260422T065559
CREATED:20250414T111427Z
LAST-MODIFIED:20250414T111427Z
UID:10000188-1749245400-1749258000@nederlanddrie.nl
SUMMARY:Podium Wateringen: The Spods + 3 op een Rij
DESCRIPTION:  \nWPC Nederland 3 organiseert elke 1e vrijdag van de maand ‘podium Wateringen’\, een avond waarop Westlandse bands de vrijheid krijgen om zichzelf te presenteren\, andere muzikanten te ontmoeten en podium ervaring op te doen. \nDitmaal met The Spods en 3 op een Rij \nLaat je verassen door wat het Westland muzikaal te bieden heeft\, de toegang is gratis. \nHeb jij zelf een band met of een band uit het Westland en wil je ook op een podium Wateringen avond optreden? Meld je aan via https://nederlanddrie.nl/spelen-in-drie/
URL:https://nederlanddrie.nl/evenement/podium-wateringen-the-spods-3-op-een-rij/
CATEGORIES:Pop,Rock
ATTACH;FMTTYPE=image/png:https://nederlanddrie.nl/wp-content/uploads/Kopie-van-@wpcnederland3.png
END:VEVENT
BEGIN:VEVENT
DTSTART;TZID=Europe/Amsterdam:20250607T213000
DTEND;TZID=Europe/Amsterdam:20250608T020000
DTSTAMP:20260422T065559
CREATED:20250227T153254Z
LAST-MODIFIED:20250607T114625Z
UID:10000180-1749331800-1749348000@nederlanddrie.nl
SUMMARY:Awoei! - Doe Maar Tribute Band
DESCRIPTION:De Bom\, Nachtzuster\, Smoorverliefd\, Pa\, Belle Helene\, 1 Nacht Alleen! Is Dit Alles? Nee hoor\, er komt nog veel meer voorbij! Awoei! zal het roze en groen om de oren doen gaan kleuren! \nAwoei! is een tribute band die de muziek van de Nederpopsensatie uit de jaren 80 “Doe Maar” graag levend wil houden op festivals\, poppodia en andere feesten.\nAwoei! speelt niet de arrangementen van de 4 mans formatie maar\, zoals de bezetting al een beetje verraad\, komt de inspiratie van onder andere de Symphonica in Rosso concerten uit 2012 en het reunie concert Hees van Ahoy uit 2000. Met blazers\, backing vocalisten en vooral samen met het publiek één groot feest. \nDansen mag maar meezingen is gegarandeerd. Het gaat vanzelf.
URL:https://nederlanddrie.nl/evenement/awoei-doe-maar-tribute-band-2/
CATEGORIES:Pop,Tributes
ATTACH;FMTTYPE=image/jpeg:https://nederlanddrie.nl/wp-content/uploads/5.jpg
END:VEVENT
BEGIN:VEVENT
DTSTART;TZID=Europe/Amsterdam:20250614T210000
DTEND;TZID=Europe/Amsterdam:20250615T020000
DTSTAMP:20260422T065559
CREATED:20250107T134642Z
LAST-MODIFIED:20250524T071343Z
UID:10000170-1749934800-1749952800@nederlanddrie.nl
SUMMARY:Progland 3: Kingdom of Desire - Toto Tribute
DESCRIPTION:Zaterdag 14 juni heeft Nederland 3 een van Europa’s beste Toto Tribute bands te gast\, Kingdom Of Desire. \nDe acht muzikanten uit Nederland en België delen een ongelooflijke passie voor de muziek van Toto\, een van de grootste bands die de wereld ooit heeft gekend. \n \n 
URL:https://nederlanddrie.nl/evenement/progland-3-kingdom-of-desire/
CATEGORIES:Pop,Prog,Tributes
ATTACH;FMTTYPE=image/jpeg:https://nederlanddrie.nl/wp-content/uploads/banner-4.jpg
END:VEVENT
BEGIN:VEVENT
DTSTART;TZID=Europe/Amsterdam:20250620T213000
DTEND;TZID=Europe/Amsterdam:20250621T010000
DTSTAMP:20260422T065559
CREATED:20250314T130748Z
LAST-MODIFIED:20250314T183512Z
UID:10000181-1750455000-1750467600@nederlanddrie.nl
SUMMARY:Flaming Stars + Highway 48
DESCRIPTION:Beleef een onvergetelijke avond met Lesley Ruitenbeek en zijn band the Flaming Stars! Lesley\, misschien wel de Haagse reïncarnatie van The King of Rock and Roll zelf\, brengt je mee op een rit langs de grootste hits van Elvis Presley. Laat je meevoeren door de tijdloze muziek van The King en geniet van een avond vol nostalgie en rock ’n roll. \nMaar dat is nog niet alles! HIGHWAY 48 biedt een divers repertoire van blues\, pop en rock uit de jaren ’60. Van klassieke rock ’n roll tot tijdloze blues en pop\, er is voor ieder wat wils. \nMis deze unieke kans niet om een stukje muziekgeschiedenis te ervaren. Kom en geniet van een avond vol geweldige muziek en onvergetelijke momenten! \nBen je klaar om mee te rocken? 🎸🎤
URL:https://nederlanddrie.nl/evenement/flaming-stars-highway-48/
CATEGORIES:Pop,Rock
ATTACH;FMTTYPE=image/jpeg:https://nederlanddrie.nl/wp-content/uploads/473078662_598375602996481_8266571256060393217_n.jpg
END:VEVENT
BEGIN:VEVENT
DTSTART;TZID=Europe/Amsterdam:20250621T213000
DTEND;TZID=Europe/Amsterdam:20250622T020000
DTSTAMP:20260422T065559
CREATED:20241222T084832Z
LAST-MODIFIED:20241222T085938Z
UID:10000164-1750541400-1750557600@nederlanddrie.nl
SUMMARY:This is Tina! - Simply the Best Tina Turner tribute
DESCRIPTION:Maak je klaar voor een spectaculaire avond vol energie\, soul en onvergetelijke hits! \nThis is Tina! brengt een eerbetoon aan de legendarische Tina Turner met een show die je kippenvel bezorgt. Van Proud Mary tot What’s Love Got to Do with It en natuurlijk Simply the Best – dit is de ultieme viering van een muziekicoon. \n 
URL:https://nederlanddrie.nl/evenement/this-is-tina/
CATEGORIES:Pop,Tributes
ATTACH;FMTTYPE=image/jpeg:https://nederlanddrie.nl/wp-content/uploads/thisistina_16112024_HSC_2206-Enhanced-NR-scaled.jpg
END:VEVENT
BEGIN:VEVENT
DTSTART;TZID=Europe/Amsterdam:20250627T213000
DTEND;TZID=Europe/Amsterdam:20250628T010000
DTSTAMP:20260422T065559
CREATED:20250414T110459Z
LAST-MODIFIED:20250530T084757Z
UID:10000187-1751059800-1751072400@nederlanddrie.nl
SUMMARY:3 voor 3: EZie band
DESCRIPTION:WPC Nederland 3 organiseert elke 3de vrijdag van de maand ‘3 voor 3’\, een avond waarop Westlandse bands de vrijheid krijgen om zichzelf te presenteren\, andere muzikanten te ontmoeten en podium ervaring op te doen. \nLaat je verassen door wat het Westland muzikaal te bieden heeft\, de toegang is gratis.
URL:https://nederlanddrie.nl/evenement/3-voor-3-ezie-band/
CATEGORIES:Pop,Rock
ATTACH;FMTTYPE=image/jpeg:https://nederlanddrie.nl/wp-content/uploads/20250502-_DSC4747-Verbeterd-NR-3.jpg
END:VEVENT
END:VCALENDAR