BEGIN:VCALENDAR
VERSION:2.0
PRODID:-//WPC Nederland Drie - ECPv6.15.20//NONSGML v1.0//EN
CALSCALE:GREGORIAN
METHOD:PUBLISH
X-WR-CALNAME:WPC Nederland Drie
X-ORIGINAL-URL:https://nederlanddrie.nl
X-WR-CALDESC:Evenementen voor WPC Nederland Drie
REFRESH-INTERVAL;VALUE=DURATION:PT1H
X-Robots-Tag:noindex
X-PUBLISHED-TTL:PT1H
BEGIN:VTIMEZONE
TZID:Europe/Amsterdam
BEGIN:DAYLIGHT
TZOFFSETFROM:+0100
TZOFFSETTO:+0200
TZNAME:CEST
DTSTART:20250330T010000
END:DAYLIGHT
BEGIN:STANDARD
TZOFFSETFROM:+0200
TZOFFSETTO:+0100
TZNAME:CET
DTSTART:20251026T010000
END:STANDARD
BEGIN:DAYLIGHT
TZOFFSETFROM:+0100
TZOFFSETTO:+0200
TZNAME:CEST
DTSTART:20260329T010000
END:DAYLIGHT
BEGIN:STANDARD
TZOFFSETFROM:+0200
TZOFFSETTO:+0100
TZNAME:CET
DTSTART:20261025T010000
END:STANDARD
BEGIN:DAYLIGHT
TZOFFSETFROM:+0100
TZOFFSETTO:+0200
TZNAME:CEST
DTSTART:20270328T010000
END:DAYLIGHT
BEGIN:STANDARD
TZOFFSETFROM:+0200
TZOFFSETTO:+0100
TZNAME:CET
DTSTART:20271031T010000
END:STANDARD
END:VTIMEZONE
BEGIN:VEVENT
DTSTART;TZID=Europe/Amsterdam:20260425T210000
DTEND;TZID=Europe/Amsterdam:20260426T020000
DTSTAMP:20260421T180914
CREATED:20260206T094052Z
LAST-MODIFIED:20260421T155943Z
UID:10000279-1777150800-1777168800@nederlanddrie.nl
SUMMARY:WaterProof 2026
DESCRIPTION:Zin in een avond vol live muziek\, energie en ontdekking? Kom zaterdag 25 april naar WPC Nederland 3 voor Waterproof 2026. Vier acts\, vier stijlen\, één podium. \nMary Ember\nAmericana pop met een frisse\, internationale sound \nWalter Bijenkonink Band\nNederlandstalige rock met karakter en sterke verhalen \nPlatonic Smile\nSweet indie rock die blijft hangen \nRoyal Arcade\nAlternative rock met power en dynamiek \nDit is geen standaard line-up. Dit is een avond waarin genres samenkomen en nieuw talent je verrast. Perfect om samen met vrienden nieuwe favoriete bands te ontdekken.
URL:https://nederlanddrie.nl/evenement/waterproof-2026/
LOCATION:Westlandse Pop Centrum Nederland 3\, Lange Spruit 84\, Wateringen\, 2291 LC\, Nederland
CATEGORIES:Overige
ATTACH;FMTTYPE=image/jpeg:https://nederlanddrie.nl/wp-content/uploads/616347580_1475832487875935_1481065804425991046_n.jpg
ORGANIZER;CN="Westlandse Pop Centrum Nederland 3":MAILTO:bookings@nederlanddrie.nl
END:VEVENT
END:VCALENDAR