BEGIN:VCALENDAR
VERSION:2.0
PRODID:-//WPC Nederland Drie - ECPv6.15.20//NONSGML v1.0//EN
CALSCALE:GREGORIAN
METHOD:PUBLISH
X-WR-CALNAME:WPC Nederland Drie
X-ORIGINAL-URL:https://nederlanddrie.nl
X-WR-CALDESC:Evenementen voor WPC Nederland Drie
REFRESH-INTERVAL;VALUE=DURATION:PT1H
X-Robots-Tag:noindex
X-PUBLISHED-TTL:PT1H
BEGIN:VTIMEZONE
TZID:Europe/Amsterdam
BEGIN:DAYLIGHT
TZOFFSETFROM:+0100
TZOFFSETTO:+0200
TZNAME:CEST
DTSTART:20250330T010000
END:DAYLIGHT
BEGIN:STANDARD
TZOFFSETFROM:+0200
TZOFFSETTO:+0100
TZNAME:CET
DTSTART:20251026T010000
END:STANDARD
BEGIN:DAYLIGHT
TZOFFSETFROM:+0100
TZOFFSETTO:+0200
TZNAME:CEST
DTSTART:20260329T010000
END:DAYLIGHT
BEGIN:STANDARD
TZOFFSETFROM:+0200
TZOFFSETTO:+0100
TZNAME:CET
DTSTART:20261025T010000
END:STANDARD
BEGIN:DAYLIGHT
TZOFFSETFROM:+0100
TZOFFSETTO:+0200
TZNAME:CEST
DTSTART:20270328T010000
END:DAYLIGHT
BEGIN:STANDARD
TZOFFSETFROM:+0200
TZOFFSETTO:+0100
TZNAME:CET
DTSTART:20271031T010000
END:STANDARD
END:VTIMEZONE
BEGIN:VEVENT
DTSTART;TZID=Europe/Amsterdam:20260425T213000
DTEND;TZID=Europe/Amsterdam:20260426T020000
DTSTAMP:20260421T165858
CREATED:20260206T094052Z
LAST-MODIFIED:20260206T094052Z
UID:10000279-1777152600-1777168800@nederlanddrie.nl
SUMMARY:WaterProof 2026
DESCRIPTION:Bands uit de regio Westland\, Delft en Den Haag opgelet: de inschrijvingen voor Waterproof 2026 zijn geopend! Dit is dé kans om jouw band te laten schitteren op het podium en zelfs een plek te bemachtigen op Waterpop 2026. \nOp zaterdag 25 april 2026 vindt in Nederland Drie (Wateringen) de spannende voorronde plaats\, waar vier geselecteerde bands tegen elkaar zullen strijden. De winnaar krijgt de eer om Waterpop 2026 te openen\, hét familiefestival dat bekend staat om zijn unieke sfeer en geweldige diverse line-up. \nGa naar deze link om je aan te melden: https://www.waterpop.nl/waterproof/
URL:https://nederlanddrie.nl/evenement/waterproof-2026/
LOCATION:Westlandse Pop Centrum Nederland 3\, Lange Spruit 84\, Wateringen\, 2291 LC\, Nederland
CATEGORIES:Overige
ATTACH;FMTTYPE=image/jpeg:https://nederlanddrie.nl/wp-content/uploads/616347580_1475832487875935_1481065804425991046_n.jpg
ORGANIZER;CN="Westlandse Pop Centrum Nederland 3":MAILTO:bookings@nederlanddrie.nl
END:VEVENT
BEGIN:VEVENT
DTSTART;TZID=Europe/Amsterdam:20260501T213000
DTEND;TZID=Europe/Amsterdam:20260502T010000
DTSTAMP:20260421T165858
CREATED:20250717T095813Z
LAST-MODIFIED:20260416T074331Z
UID:10000228-1777671000-1777683600@nederlanddrie.nl
SUMMARY:Podium Wateringen: De BierBand + EQUAL ANIMALS
DESCRIPTION:Ontdek Podium Wateringen waar lokale muzikanten iedere eerste vrijdag van de maand het licht delen op het professionele podium van Westlands Pop Centrum Nederland 3. \nToegang is gratis en ontdek wat het Westland muzikaal te bieden heeft. \nTijdschema \n21:00 Deur open\n21:30 EQUAL ANIMALS\n22:45 De BierBand
URL:https://nederlanddrie.nl/evenement/podium-wateringen-8/
CATEGORIES:Overige,Pop,Rock
ATTACH;FMTTYPE=image/png:https://nederlanddrie.nl/wp-content/uploads/Podium-Wateringen-Banner-1.png
END:VEVENT
BEGIN:VEVENT
DTSTART;TZID=Europe/Amsterdam:20260605T213000
DTEND;TZID=Europe/Amsterdam:20260606T010000
DTSTAMP:20260421T165858
CREATED:20250717T095925Z
LAST-MODIFIED:20250717T095925Z
UID:10000229-1780695000-1780707600@nederlanddrie.nl
SUMMARY:Podium Wateringen
DESCRIPTION:Ontdek Podium Wateringen waar lokale muzikanten iedere eerste vrijdag van de maand het licht delen op het professionele podium van Westlands Pop Centrum Nederland 3. \nToegang is gratis en ontdek wat het Westland muzikaal te bieden heeft.
URL:https://nederlanddrie.nl/evenement/podium-wateringen-9/
CATEGORIES:Overige,Pop,Rock
ATTACH;FMTTYPE=image/png:https://nederlanddrie.nl/wp-content/uploads/Podium-Wateringen-Banner-1.png
END:VEVENT
END:VCALENDAR