BEGIN:VCALENDAR
VERSION:2.0
PRODID:-//WPC Nederland Drie - ECPv6.15.20//NONSGML v1.0//EN
CALSCALE:GREGORIAN
METHOD:PUBLISH
X-ORIGINAL-URL:https://nederlanddrie.nl
X-WR-CALDESC:Evenementen voor WPC Nederland Drie
REFRESH-INTERVAL;VALUE=DURATION:PT1H
X-Robots-Tag:noindex
X-PUBLISHED-TTL:PT1H
BEGIN:VTIMEZONE
TZID:Europe/Amsterdam
BEGIN:DAYLIGHT
TZOFFSETFROM:+0100
TZOFFSETTO:+0200
TZNAME:CEST
DTSTART:20240331T010000
END:DAYLIGHT
BEGIN:STANDARD
TZOFFSETFROM:+0200
TZOFFSETTO:+0100
TZNAME:CET
DTSTART:20241027T010000
END:STANDARD
BEGIN:DAYLIGHT
TZOFFSETFROM:+0100
TZOFFSETTO:+0200
TZNAME:CEST
DTSTART:20250330T010000
END:DAYLIGHT
BEGIN:STANDARD
TZOFFSETFROM:+0200
TZOFFSETTO:+0100
TZNAME:CET
DTSTART:20251026T010000
END:STANDARD
BEGIN:DAYLIGHT
TZOFFSETFROM:+0100
TZOFFSETTO:+0200
TZNAME:CEST
DTSTART:20260329T010000
END:DAYLIGHT
BEGIN:STANDARD
TZOFFSETFROM:+0200
TZOFFSETTO:+0100
TZNAME:CET
DTSTART:20261025T010000
END:STANDARD
BEGIN:DAYLIGHT
TZOFFSETFROM:+0100
TZOFFSETTO:+0200
TZNAME:CEST
DTSTART:20270328T010000
END:DAYLIGHT
BEGIN:STANDARD
TZOFFSETFROM:+0200
TZOFFSETTO:+0100
TZNAME:CET
DTSTART:20271031T010000
END:STANDARD
END:VTIMEZONE
BEGIN:VEVENT
DTSTART;TZID=Europe/Amsterdam:20260411T210000
DTEND;TZID=Europe/Amsterdam:20260411T233000
DTSTAMP:20260421T181757
CREATED:20260409T063845Z
LAST-MODIFIED:20260409T063845Z
UID:10000295-1775941200-1775950200@nederlanddrie.nl
SUMMARY:Gesloten
DESCRIPTION:Vandaag zijn wij gesloten voor publiek \n\n𝗚𝗘𝗔𝗡𝗡𝗨𝗟𝗘𝗘𝗥𝗗…..\nHelaas is het niet gelukt om voldoende de bands te vinden voor deze avond\, hierom zijn we deze keer gesloten.
URL:https://nederlanddrie.nl/evenement/gesloten-11/
CATEGORIES:Overige
ATTACH;FMTTYPE=image/png:https://nederlanddrie.nl/wp-content/uploads/Gesloten.png
END:VEVENT
BEGIN:VEVENT
DTSTART;TZID=Europe/Amsterdam:20260410T210000
DTEND;TZID=Europe/Amsterdam:20260411T010000
DTSTAMP:20260421T181757
CREATED:20251001T083932Z
LAST-MODIFIED:20260330T131544Z
UID:10000253-1775854800-1775869200@nederlanddrie.nl
SUMMARY:Jamsessie 3
DESCRIPTION:Ben jij muzikant\, zanger of simpelweg gek op live muziek? Pak je instrument\, stem je stembanden en kom naar de jamsessie bij WPC Nederland 3! \nOnze deuren gaan open voor iedereen die wil spelen\, luisteren of spontaan wil aansluiten. Van funk en jazz tot rock\, soul en blues: op het podium van Nederland 3 is ruimte voor alle stijlen en niveaus. \n🔸 Volledig uitgeruste backline aanwezig (drumkit\, versterkers\, microfoons)🔸 Gezellige sfeer met ruimte voor improvisatie en verbinding🔸 Maximaal 250 bezoekerscapaciteit🔸 Gratis toegang voor publiek \nToegang: gratis voor publiek\, gratis deelname voor muzikantenZin om mee te spelen? Neem je eigen baspedaal\, hihat clutch en eventueel instrument(en) mee. Wij zorgen voor de rest.
URL:https://nederlanddrie.nl/evenement/jamsessie-3-2/
CATEGORIES:Overige
ATTACH;FMTTYPE=image/png:https://nederlanddrie.nl/wp-content/uploads/Jamsessie-1.png
END:VEVENT
BEGIN:VEVENT
DTSTART;TZID=Europe/Amsterdam:20260403T213000
DTEND;TZID=Europe/Amsterdam:20260404T010000
DTSTAMP:20260421T181757
CREATED:20250717T095643Z
LAST-MODIFIED:20260324T180537Z
UID:10000227-1775251800-1775264400@nederlanddrie.nl
SUMMARY:Podium Wateringen: Strange Machines + Thirty Something
DESCRIPTION:Ontdek Podium Wateringen waar lokale muzikanten iedere eerste vrijdag van de maand het licht delen op het professionele podium van Westlands Pop Centrum Nederland 3. \nToegang is gratis en ontdek wat het Westland muzikaal te bieden heeft.
URL:https://nederlanddrie.nl/evenement/podium-wateringen-7/
CATEGORIES:Overige,Pop,Rock
ATTACH;FMTTYPE=image/png:https://nederlanddrie.nl/wp-content/uploads/Podium-Wateringen-Banner-1.png
END:VEVENT
BEGIN:VEVENT
DTSTART;TZID=Europe/Amsterdam:20260306T213000
DTEND;TZID=Europe/Amsterdam:20260307T010000
DTSTAMP:20260421T181757
CREATED:20250717T095523Z
LAST-MODIFIED:20260227T173709Z
UID:10000226-1772832600-1772845200@nederlanddrie.nl
SUMMARY:Podium Wateringen
DESCRIPTION:Ontdek Podium Wateringen waar lokale muzikanten iedere eerste vrijdag van de maand het licht delen op het professionele podium van Westlands Pop Centrum Nederland 3. \nToegang is gratis en ontdek wat het Westland muzikaal te bieden heeft.
URL:https://nederlanddrie.nl/evenement/podium-wateringen-6/
CATEGORIES:Overige,Pop,Rock
ATTACH;FMTTYPE=image/png:https://nederlanddrie.nl/wp-content/uploads/Podium-Wateringen-Banner-1.png
END:VEVENT
BEGIN:VEVENT
DTSTART;TZID=Europe/Amsterdam:20260206T213000
DTEND;TZID=Europe/Amsterdam:20260207T010000
DTSTAMP:20260421T181757
CREATED:20250717T095139Z
LAST-MODIFIED:20251217T074523Z
UID:10000224-1770413400-1770426000@nederlanddrie.nl
SUMMARY:Podium Wateringen: The Guardians + 10 Ct Pistol
DESCRIPTION:Ontdek Podium Wateringen waar lokale muzikanten iedere eerste vrijdag van de maand het licht delen op het professionele podium van Westlands Pop Centrum Nederland 3. \nToegang is gratis en ontdek wat het Westland muzikaal te bieden heeft.
URL:https://nederlanddrie.nl/evenement/podium-wateringen-5/
CATEGORIES:Overige,Pop,Rock
ATTACH;FMTTYPE=image/png:https://nederlanddrie.nl/wp-content/uploads/Podium-Wateringen-Banner-1.png
END:VEVENT
BEGIN:VEVENT
DTSTART;TZID=Europe/Amsterdam:20260116T213000
DTEND;TZID=Europe/Amsterdam:20260117T010000
DTSTAMP:20260421T181757
CREATED:20250717T095004Z
LAST-MODIFIED:20251211T084329Z
UID:10000222-1768599000-1768611600@nederlanddrie.nl
SUMMARY:Podium Wateringen: Jento + Rock solid
DESCRIPTION:Ontdek Podium Wateringen waar lokale muzikanten iedere eerste vrijdag van de maand het licht delen op het professionele podium van Westlands Pop Centrum Nederland 3. \nToegang is gratis en ontdek wat het Westland muzikaal te bieden heeft.
URL:https://nederlanddrie.nl/evenement/podium-wateringen-4/
LOCATION:Westlandse Pop Centrum Nederland 3\, Lange Spruit 84\, Wateringen\, 2291 LC\, Nederland
CATEGORIES:Overige,Pop,Rock
ATTACH;FMTTYPE=image/png:https://nederlanddrie.nl/wp-content/uploads/Podium-Wateringen-Januari-1.png
END:VEVENT
BEGIN:VEVENT
DTSTART;TZID=Europe/Amsterdam:20260110T210000
DTEND;TZID=Europe/Amsterdam:20260110T233000
DTSTAMP:20260421T181757
CREATED:20260109T143032Z
LAST-MODIFIED:20260109T143333Z
UID:10000275-1768078800-1768087800@nederlanddrie.nl
SUMMARY:Gesloten
DESCRIPTION:Vandaag zijn wij gesloten voor publiek \n\n𝗚𝗘𝗔𝗡𝗡𝗨𝗟𝗘𝗘𝗥𝗗…..\nHelaas heeft de band Kingdom of Toto moeten afzeggen voor zaterdag a.s. door ziekte van één van de bandleden is het optreden niet mogelijk.\n\n\n𝗡𝗜𝗘𝗨𝗪𝗘 𝗗𝗔𝗧𝗨𝗠: In overleg met de band is het optreden doorgeschoven naar zaterdag 13 juni a.s.\n\n\nGekochte kaarten blijven uiteraard geldig. Mocht je toch liever je ticket(s) teruggeven dan kan dat uiteraard en krijg je je geld terug.\n\n\nJammer… maar fijn dat er meteen een nieuwe datum is overeengekomen met deze geweldige band!
URL:https://nederlanddrie.nl/evenement/gesloten-10/
CATEGORIES:Overige
ATTACH;FMTTYPE=image/png:https://nederlanddrie.nl/wp-content/uploads/Gesloten.png
END:VEVENT
BEGIN:VEVENT
DTSTART;TZID=Europe/Amsterdam:20251205T213000
DTEND;TZID=Europe/Amsterdam:20251206T010000
DTSTAMP:20260421T181757
CREATED:20250717T094131Z
LAST-MODIFIED:20251001T085131Z
UID:10000221-1764970200-1764982800@nederlanddrie.nl
SUMMARY:Gesloten
DESCRIPTION:In verband met Sinterklaas zijn wij gesloten.
URL:https://nederlanddrie.nl/evenement/podium-wateringen-3/
CATEGORIES:Overige,Rock
ATTACH;FMTTYPE=image/png:https://nederlanddrie.nl/wp-content/uploads/Gesloten.png
END:VEVENT
BEGIN:VEVENT
DTSTART;TZID=Europe/Amsterdam:20251128T210000
DTEND;TZID=Europe/Amsterdam:20251129T010000
DTSTAMP:20260421T181757
CREATED:20251001T083403Z
LAST-MODIFIED:20251111T142243Z
UID:10000252-1764363600-1764378000@nederlanddrie.nl
SUMMARY:Jamsessie 3
DESCRIPTION:Ben jij muzikant\, zanger of simpelweg gek op live muziek? Pak je instrument\, stem je stembanden en kom naar de jamsessie bij WPC Nederland 3! \nOnze deuren gaan open voor iedereen die wil spelen\, luisteren of spontaan wil aansluiten. Van funk en jazz tot rock\, soul en blues: op het podium van Nederland 3 is ruimte voor alle stijlen en niveaus. \n🔸 Volledig uitgeruste backline aanwezig (drumkit\, versterkers\, microfoons)🔸 Gezellige sfeer met ruimte voor improvisatie en verbinding🔸 Maximaal 250 bezoekerscapaciteit🔸 Gratis toegang voor publiek \nToegang: gratis voor publiek\, gratis deelname voor muzikanten\nHuisband: Switchback\nZin om mee te spelen? Neem je eigen baspedaal\, hihat clutch en eventueel instrument(en) mee. Wij zorgen voor de rest. \nDeze jamsessie wordt in samenwerking georganiseerd door WPC Nederland en Cultuurweb. \n \n \n 
URL:https://nederlanddrie.nl/evenement/jamsessie-3/
CATEGORIES:Overige
ATTACH;FMTTYPE=image/png:https://nederlanddrie.nl/wp-content/uploads/Jamsessie-1.png
END:VEVENT
BEGIN:VEVENT
DTSTART;TZID=Europe/Amsterdam:20251107T213000
DTEND;TZID=Europe/Amsterdam:20251108T010000
DTSTAMP:20260421T181757
CREATED:20250717T093932Z
LAST-MODIFIED:20251103T131925Z
UID:10000220-1762551000-1762563600@nederlanddrie.nl
SUMMARY:Podium Wateringen
DESCRIPTION:Ontdek Podium Wateringen waar lokale muzikanten iedere eerste vrijdag van de maand het licht delen op het professionele podium van Westlands Pop Centrum Nederland 3. \nToegang is gratis en ontdek wat het Westland muzikaal te bieden heeft.
URL:https://nederlanddrie.nl/evenement/podium-wateringen-2/
CATEGORIES:Overige,Pop,Rock
ATTACH;FMTTYPE=image/png:https://nederlanddrie.nl/wp-content/uploads/Podium-Wateringen-Banner-1.png
END:VEVENT
BEGIN:VEVENT
DTSTART;TZID=Europe/Amsterdam:20251003T213000
DTEND;TZID=Europe/Amsterdam:20251004T010000
DTSTAMP:20260421T181757
CREATED:20250717T093800Z
LAST-MODIFIED:20250910T084133Z
UID:10000219-1759527000-1759539600@nederlanddrie.nl
SUMMARY:Podium Wateringen
DESCRIPTION:Ontdek Podium Wateringen waar lokale muzikanten iedere eerste vrijdag van de maand het licht delen op het professionele podium van Westlands Pop Centrum Nederland 3. \nToegang is gratis en ontdek wat het Westland muzikaal te bieden heeft.
URL:https://nederlanddrie.nl/evenement/podium-wateringen/
CATEGORIES:Overige,Pop,Rock
ATTACH;FMTTYPE=image/png:https://nederlanddrie.nl/wp-content/uploads/Podium-Wateringen-Banner-1.png
END:VEVENT
BEGIN:VEVENT
DTSTART;TZID=Europe/Amsterdam:20250906T210000
DTEND;TZID=Europe/Amsterdam:20250906T233000
DTSTAMP:20260421T181757
CREATED:20250717T100718Z
LAST-MODIFIED:20250717T100854Z
UID:10000234-1757192400-1757201400@nederlanddrie.nl
SUMMARY:Besloten feest
DESCRIPTION:Vandaag zijn wij gesloten voor publiek
URL:https://nederlanddrie.nl/evenement/besloten-feest/
CATEGORIES:Overige
ATTACH;FMTTYPE=image/png:https://nederlanddrie.nl/wp-content/uploads/Gesloten-Besloten-feest.png
END:VEVENT
BEGIN:VEVENT
DTSTART;TZID=Europe/Amsterdam:20250905T210000
DTEND;TZID=Europe/Amsterdam:20250905T233000
DTSTAMP:20260421T181757
CREATED:20250717T102159Z
LAST-MODIFIED:20260109T143343Z
UID:10000235-1757106000-1757115000@nederlanddrie.nl
SUMMARY:Gesloten
DESCRIPTION:Vandaag zijn wij gesloten voor publiek
URL:https://nederlanddrie.nl/evenement/gesloten-9/
CATEGORIES:Overige
ATTACH;FMTTYPE=image/png:https://nederlanddrie.nl/wp-content/uploads/Gesloten.png
END:VEVENT
BEGIN:VEVENT
DTSTART;TZID=Europe/Amsterdam:20250705T200000
DTEND;TZID=Europe/Amsterdam:20250706T010000
DTSTAMP:20260421T181757
CREATED:20250528T073251Z
LAST-MODIFIED:20250604T165600Z
UID:10000191-1751745600-1751763600@nederlanddrie.nl
SUMMARY:Hoezo Anders - Summer Party
DESCRIPTION:📢 Hoezo Anders Summer Party 🌞 \nKom naar de Hoezo Anders Summer Party op zaterdag 5 juli 2025! Dit geweldige evenement wordt georganiseerd door The Rebels en vindt plaats op Lange Spruit 84\, Wateringen. De toegang is helemaal gratis! \n🎶 DJ Dennis & DJ Luki zullen de avond vullen met fantastische muziek\, speciaal voor jong en oud vanaf 15 jaar met een verstandelijke en/of lichamelijke beperking. Ook je begeleider is van harte welkom! \n🌼 Geniet van een zomerse sfeer met een blauwe lucht\, witte madeliefjes en groene bladeren. Mis deze unieke kans niet om te feesten en plezier te hebben!
URL:https://nederlanddrie.nl/evenement/hoezo-anders-summer-party/
CATEGORIES:DJ,Overige
ATTACH;FMTTYPE=image/jpeg:https://nederlanddrie.nl/wp-content/uploads/Afbeelding-van-WhatsApp-op-2025-05-27-om-13.24.11_8833acd1.jpg
END:VEVENT
END:VCALENDAR