BEGIN:VCALENDAR
VERSION:2.0
PRODID:-//WPC Nederland Drie - ECPv6.15.20//NONSGML v1.0//EN
CALSCALE:GREGORIAN
METHOD:PUBLISH
X-WR-CALNAME:WPC Nederland Drie
X-ORIGINAL-URL:https://nederlanddrie.nl
X-WR-CALDESC:Evenementen voor WPC Nederland Drie
REFRESH-INTERVAL;VALUE=DURATION:PT1H
X-Robots-Tag:noindex
X-PUBLISHED-TTL:PT1H
BEGIN:VTIMEZONE
TZID:Europe/Amsterdam
BEGIN:DAYLIGHT
TZOFFSETFROM:+0100
TZOFFSETTO:+0200
TZNAME:CEST
DTSTART:20240331T010000
END:DAYLIGHT
BEGIN:STANDARD
TZOFFSETFROM:+0200
TZOFFSETTO:+0100
TZNAME:CET
DTSTART:20241027T010000
END:STANDARD
BEGIN:DAYLIGHT
TZOFFSETFROM:+0100
TZOFFSETTO:+0200
TZNAME:CEST
DTSTART:20250330T010000
END:DAYLIGHT
BEGIN:STANDARD
TZOFFSETFROM:+0200
TZOFFSETTO:+0100
TZNAME:CET
DTSTART:20251026T010000
END:STANDARD
BEGIN:DAYLIGHT
TZOFFSETFROM:+0100
TZOFFSETTO:+0200
TZNAME:CEST
DTSTART:20260329T010000
END:DAYLIGHT
BEGIN:STANDARD
TZOFFSETFROM:+0200
TZOFFSETTO:+0100
TZNAME:CET
DTSTART:20261025T010000
END:STANDARD
BEGIN:DAYLIGHT
TZOFFSETFROM:+0100
TZOFFSETTO:+0200
TZNAME:CEST
DTSTART:20270328T010000
END:DAYLIGHT
BEGIN:STANDARD
TZOFFSETFROM:+0200
TZOFFSETTO:+0100
TZNAME:CET
DTSTART:20271031T010000
END:STANDARD
END:VTIMEZONE
BEGIN:VEVENT
DTSTART;TZID=Europe/Amsterdam:20260130T210000
DTEND;TZID=Europe/Amsterdam:20260131T010000
DTSTAMP:20260421T170114
CREATED:20260102T094816Z
LAST-MODIFIED:20260104T182307Z
UID:10000271-1769806800-1769821200@nederlanddrie.nl
SUMMARY:Disco Classics
DESCRIPTION:🪩 DISCO CLASSICS bij WPC Nederland 3 🪩 \nZin in een avond vol herkenbare hits\, dansvloer vibes en pure nostalgie? Op vrijdag 30 januari nemen we je mee terug naar de gouden tijden van de disco tijdens Disco Classics bij WPC Nederland 3. \nDJ Remco draait de beste classics van onder andere Bee Gees\, Gloria Gaynor\, Chic\, ABBA en Michael Jackson. Verwacht een energieke avond met non stop meezingers en een dansvloer die geen moment stil staat.
URL:https://nederlanddrie.nl/evenement/disco-classics/
LOCATION:Westlandse Pop Centrum Nederland 3\, Lange Spruit 84\, Wateringen\, 2291 LC\, Nederland
CATEGORIES:DJ
ATTACH;FMTTYPE=image/png:https://nederlanddrie.nl/wp-content/uploads/Disco-Classics.png
ORGANIZER;CN="Westlandse Pop Centrum Nederland 3":MAILTO:bookings@nederlanddrie.nl
END:VEVENT
BEGIN:VEVENT
DTSTART;TZID=Europe/Amsterdam:20260109T200000
DTEND;TZID=Europe/Amsterdam:20260110T000000
DTSTAMP:20260421T170114
CREATED:20251201T105644Z
LAST-MODIFIED:20260108T155058Z
UID:10000264-1767988800-1768003200@nederlanddrie.nl
SUMMARY:[GEANNULEERD] Hoezo Anders - Knallend 2026!
DESCRIPTION:BEZOEKERS OPGELET! Helaas is door de slechte weersvoorspellingen dit evenement geannuleerd. \nOp vrijdag 9 januari 2026 luiden we het nieuwe jaar feestelijk in met een sprankelende avond speciaal voor jongeren en volwassenen vanaf 15 jaar met een verstandelijke en/of lichamelijke beperking. Ook begeleiders zijn van harte welkom! \nVan 20.00 tot 00.00 uur barst het vuurwerk los op de dansvloer met DJ Dennis & DJ Luki\, die zorgen voor een avond vol herkenbare hits\, gezelligheid en een warme\, inclusieve sfeer. \nEntree is helemaal gratis!Kom samen genieten\, dansen en het nieuwe jaar knallend beginnen bij The Rebels!\nLocatie: Lange Spruit 84\, Wateringen.
URL:https://nederlanddrie.nl/evenement/hoezo-anders-knallend-2026/
CATEGORIES:Activiteit,DJ
ATTACH;FMTTYPE=image/jpeg:https://nederlanddrie.nl/wp-content/uploads/Afbeelding-van-WhatsApp-op-2025-11-28-om-20.28.49_871a211e.jpg
END:VEVENT
BEGIN:VEVENT
DTSTART;TZID=Europe/Amsterdam:20251206T213000
DTEND;TZID=Europe/Amsterdam:20251207T020000
DTSTAMP:20260421T170114
CREATED:20251021T173014Z
LAST-MODIFIED:20251021T174147Z
UID:10000260-1765056600-1765072800@nederlanddrie.nl
SUMMARY:Musique Electronique
DESCRIPTION:Elektronische muziek in haar puurste vorm. Tijdens Musique Electronique nemen drie cutting-edge acts je mee in een audiovisuele trip waar beats\, bassen en visuals samensmelten tot één ervaring. Van hypnotiserende techno tot diepe house grooves\, dit is dé plek waar sound design en performance elkaar versterken.
URL:https://nederlanddrie.nl/evenement/musique-electronique/
CATEGORIES:DJ
ATTACH;FMTTYPE=image/jpeg:https://nederlanddrie.nl/wp-content/uploads/Schermafbeelding-2025-10-21-194101.jpg
END:VEVENT
BEGIN:VEVENT
DTSTART;TZID=Europe/Amsterdam:20250926T213000
DTEND;TZID=Europe/Amsterdam:20250927T010000
DTSTAMP:20260421T170114
CREATED:20250909T093214Z
LAST-MODIFIED:20250909T093214Z
UID:10000249-1758922200-1758934800@nederlanddrie.nl
SUMMARY:Dance Night: 90's
DESCRIPTION:Zin in een avond vol nostalgie en dansplezier? Kom dan naar ons popcentrum en laat je meevoeren door de meest iconische discohits uit de jaren 90! Onder begeleiding van onze DJ dans je de hele avond op de beste hits en zing mee met je favoriete nummers. Mis het niet en breng je dansschoenen mee!!
URL:https://nederlanddrie.nl/evenement/dance-night-90s/
CATEGORIES:DJ
ATTACH;FMTTYPE=image/jpeg:https://nederlanddrie.nl/wp-content/uploads/Afbeelding-van-WhatsApp-op-2025-09-08-om-09.14.31_97568bec.jpg
END:VEVENT
BEGIN:VEVENT
DTSTART;TZID=Europe/Amsterdam:20250705T200000
DTEND;TZID=Europe/Amsterdam:20250706T010000
DTSTAMP:20260421T170114
CREATED:20250528T073251Z
LAST-MODIFIED:20250604T165600Z
UID:10000191-1751745600-1751763600@nederlanddrie.nl
SUMMARY:Hoezo Anders - Summer Party
DESCRIPTION:📢 Hoezo Anders Summer Party 🌞 \nKom naar de Hoezo Anders Summer Party op zaterdag 5 juli 2025! Dit geweldige evenement wordt georganiseerd door The Rebels en vindt plaats op Lange Spruit 84\, Wateringen. De toegang is helemaal gratis! \n🎶 DJ Dennis & DJ Luki zullen de avond vullen met fantastische muziek\, speciaal voor jong en oud vanaf 15 jaar met een verstandelijke en/of lichamelijke beperking. Ook je begeleider is van harte welkom! \n🌼 Geniet van een zomerse sfeer met een blauwe lucht\, witte madeliefjes en groene bladeren. Mis deze unieke kans niet om te feesten en plezier te hebben!
URL:https://nederlanddrie.nl/evenement/hoezo-anders-summer-party/
CATEGORIES:DJ,Overige
ATTACH;FMTTYPE=image/jpeg:https://nederlanddrie.nl/wp-content/uploads/Afbeelding-van-WhatsApp-op-2025-05-27-om-13.24.11_8833acd1.jpg
END:VEVENT
END:VCALENDAR