BEGIN:VCALENDAR
VERSION:2.0
PRODID:-//WPC Nederland Drie - ECPv6.15.20//NONSGML v1.0//EN
CALSCALE:GREGORIAN
METHOD:PUBLISH
X-ORIGINAL-URL:https://nederlanddrie.nl
X-WR-CALDESC:Evenementen voor WPC Nederland Drie
REFRESH-INTERVAL;VALUE=DURATION:PT1H
X-Robots-Tag:noindex
X-PUBLISHED-TTL:PT1H
BEGIN:VTIMEZONE
TZID:Europe/Amsterdam
BEGIN:DAYLIGHT
TZOFFSETFROM:+0100
TZOFFSETTO:+0200
TZNAME:CEST
DTSTART:20240331T010000
END:DAYLIGHT
BEGIN:STANDARD
TZOFFSETFROM:+0200
TZOFFSETTO:+0100
TZNAME:CET
DTSTART:20241027T010000
END:STANDARD
BEGIN:DAYLIGHT
TZOFFSETFROM:+0100
TZOFFSETTO:+0200
TZNAME:CEST
DTSTART:20250330T010000
END:DAYLIGHT
BEGIN:STANDARD
TZOFFSETFROM:+0200
TZOFFSETTO:+0100
TZNAME:CET
DTSTART:20251026T010000
END:STANDARD
BEGIN:DAYLIGHT
TZOFFSETFROM:+0100
TZOFFSETTO:+0200
TZNAME:CEST
DTSTART:20260329T010000
END:DAYLIGHT
BEGIN:STANDARD
TZOFFSETFROM:+0200
TZOFFSETTO:+0100
TZNAME:CET
DTSTART:20261025T010000
END:STANDARD
END:VTIMEZONE
BEGIN:VEVENT
DTSTART;TZID=Europe/Amsterdam:20251024T213000
DTEND;TZID=Europe/Amsterdam:20251025T010000
DTSTAMP:20260422T023149
CREATED:20250806T120016Z
LAST-MODIFIED:20250806T120016Z
UID:10000240-1761341400-1761354000@nederlanddrie.nl
SUMMARY:WaterBlues: FD BluesBand
DESCRIPTION:Dompel jezelf onder in de zielvolle klanken en emotionele diepgang van de blues tijdens WaterBlues! Dit evenement brengt een samensmelting van zowel legendarische als opkomende blues artiesten samen voor een onvergetelijke ervaring. Laat je meevoeren door de melancholieke melodieën\, de krachtige zang en de meeslepende gitaarlicks die de essentie van de blues belichamen.
URL:https://nederlanddrie.nl/evenement/waterblues-fd-bluesband/
CATEGORIES:Blues
ATTACH;FMTTYPE=image/jpeg:https://nederlanddrie.nl/wp-content/uploads/Afbeelding-van-WhatsApp-op-2025-08-05-om-12.29.27_0d98cc10.jpg
END:VEVENT
END:VCALENDAR