BEGIN:VCALENDAR
VERSION:2.0
PRODID:-//WPC Nederland Drie - ECPv6.15.20//NONSGML v1.0//EN
CALSCALE:GREGORIAN
METHOD:PUBLISH
X-ORIGINAL-URL:https://nederlanddrie.nl
X-WR-CALDESC:Evenementen voor WPC Nederland Drie
REFRESH-INTERVAL;VALUE=DURATION:PT1H
X-Robots-Tag:noindex
X-PUBLISHED-TTL:PT1H
BEGIN:VTIMEZONE
TZID:Europe/Amsterdam
BEGIN:DAYLIGHT
TZOFFSETFROM:+0100
TZOFFSETTO:+0200
TZNAME:CEST
DTSTART:20240331T010000
END:DAYLIGHT
BEGIN:STANDARD
TZOFFSETFROM:+0200
TZOFFSETTO:+0100
TZNAME:CET
DTSTART:20241027T010000
END:STANDARD
BEGIN:DAYLIGHT
TZOFFSETFROM:+0100
TZOFFSETTO:+0200
TZNAME:CEST
DTSTART:20250330T010000
END:DAYLIGHT
BEGIN:STANDARD
TZOFFSETFROM:+0200
TZOFFSETTO:+0100
TZNAME:CET
DTSTART:20251026T010000
END:STANDARD
BEGIN:DAYLIGHT
TZOFFSETFROM:+0100
TZOFFSETTO:+0200
TZNAME:CEST
DTSTART:20260329T010000
END:DAYLIGHT
BEGIN:STANDARD
TZOFFSETFROM:+0200
TZOFFSETTO:+0100
TZNAME:CET
DTSTART:20261025T010000
END:STANDARD
END:VTIMEZONE
BEGIN:VEVENT
DTSTART;TZID=Europe/Amsterdam:20250510T213000
DTEND;TZID=Europe/Amsterdam:20250511T020000
DTSTAMP:20260422T093408
CREATED:20241114T114751Z
LAST-MODIFIED:20250410T074552Z
UID:10000149-1746912600-1746928800@nederlanddrie.nl
SUMMARY:WaterBlues: Harlem Lake
DESCRIPTION:Harlem Lake keert terug naar Wateringen met een avond vullende show! In 2022 won de jonge Nederlandse band Harlem Lake de European Blues Challenge 2022 en nu zijn ze terug met een nieuw album. \nMet The Mirrored Mask kondigt de Nederlandse band Harlem Lake hun langverwachte tweede album aan\, dat op 27 september is verschenen onder Jazzhaus Records. Na hun veelgeprezen debuutalbum A Fool’s Paradise\, Vol. 1 uit 2021\, presenteert de band uit Haarlem\, nabij Amsterdam\, opnieuw een eclectische mix van blues\, rock en americana. Harlem Lake laat zich echter niet in een hokje plaatsen en gebruikt deze genres slechts als losse creatieve inspiratie\, wat resulteert in een frisse en tijdloze sound.
URL:https://nederlanddrie.nl/evenement/waterblues-harlem-lake/
CATEGORIES:Blues
ATTACH;FMTTYPE=image/jpeg:https://nederlanddrie.nl/wp-content/uploads/2.jpg
END:VEVENT
END:VCALENDAR